| Back to Multiple platform build/check report for BioC 3.10 |
|
This page was generated on 2020-04-15 12:43:55 -0400 (Wed, 15 Apr 2020).
| Package 423/1823 | Hostname | OS / Arch | INSTALL | BUILD | CHECK | BUILD BIN | ||||||
| DeepBlueR 1.12.0 Felipe Albrecht
| malbec1 | Linux (Ubuntu 18.04.4 LTS) / x86_64 | OK | OK | OK | |||||||
| tokay1 | Windows Server 2012 R2 Standard / x64 | OK | OK | OK | OK | |||||||
| merida1 | OS X 10.11.6 El Capitan / x86_64 | OK | OK | OK | [ OK ] |
| Package: DeepBlueR |
| Version: 1.12.0 |
| Command: rm -rf DeepBlueR.buildbin-libdir && mkdir DeepBlueR.buildbin-libdir && /Users/biocbuild/BBS/utils/build-universal.sh DeepBlueR_1.12.0.tar.gz /Library/Frameworks/R.framework/Versions/Current/Resources/bin/R DeepBlueR.buildbin-libdir |
| StartedAt: 2020-04-15 07:16:12 -0400 (Wed, 15 Apr 2020) |
| EndedAt: 2020-04-15 07:17:06 -0400 (Wed, 15 Apr 2020) |
| EllapsedTime: 53.6 seconds |
| RetCode: 0 |
| Status: OK |
| PackageFile: DeepBlueR_1.12.0.tgz |
| PackageFileSize: 1.998 MiB |
############################################################################## ############################################################################## ### ### Running command: ### ### rm -rf DeepBlueR.buildbin-libdir && mkdir DeepBlueR.buildbin-libdir && /Users/biocbuild/BBS/utils/build-universal.sh DeepBlueR_1.12.0.tar.gz /Library/Frameworks/R.framework/Versions/Current/Resources/bin/R DeepBlueR.buildbin-libdir ### ############################################################################## ############################################################################## >>>>>>> >>>>>>> INSTALLATION WITH 'R CMD INSTALL --preclean --no-multiarch --library=DeepBlueR.buildbin-libdir DeepBlueR_1.12.0.tar.gz' >>>>>>> * installing *source* package ‘DeepBlueR’ ... ** using staged installation ** R ** demo ** inst ** byte-compile and prepare package for lazy loading Called method: deepblue_list_column_types Reported status was: okay Called method: deepblue_info Reported status was: okay ** help *** installing help indices ** building package indices ** installing vignettes ** testing if installed package can be loaded from temporary location ** testing if installed package can be loaded from final location ** testing if installed package keeps a record of temporary installation path * DONE (DeepBlueR)