| Back to Multiple platform build/check report for BioC 3.10 | 
 | 
This page was generated on 2020-04-15 12:21:00 -0400 (Wed, 15 Apr 2020).
| Package 420/1823 | Hostname | OS / Arch | INSTALL | BUILD | CHECK | BUILD BIN | ||||||
| DeconRNASeq 1.28.0 Ting Gong 
 | malbec1 | Linux (Ubuntu 18.04.4 LTS) / x86_64 | OK | OK | OK |  | ||||||
| tokay1 | Windows Server 2012 R2 Standard / x64 | OK | OK | OK | [ OK ] |  | ||||||
| merida1 | OS X 10.11.6 El Capitan / x86_64 | OK | OK | OK | OK |  | 
| Package: DeconRNASeq | 
| Version: 1.28.0 | 
| Command: rm -rf DeconRNASeq.buildbin-libdir && mkdir DeconRNASeq.buildbin-libdir && C:\Users\biocbuild\bbs-3.10-bioc\R\bin\R.exe --arch x64 CMD INSTALL --no-multiarch --build --library=DeconRNASeq.buildbin-libdir DeconRNASeq_1.28.0.tar.gz | 
| StartedAt: 2020-04-15 08:32:55 -0400 (Wed, 15 Apr 2020) | 
| EndedAt: 2020-04-15 08:33:12 -0400 (Wed, 15 Apr 2020) | 
| EllapsedTime: 17.3 seconds | 
| RetCode: 0 | 
| Status: OK | 
| PackageFile: DeconRNASeq_1.28.0.zip | 
| PackageFileSize: 6.644 MiB | 
##############################################################################
##############################################################################
###
### Running command:
###
###   rm -rf DeconRNASeq.buildbin-libdir && mkdir DeconRNASeq.buildbin-libdir && C:\Users\biocbuild\bbs-3.10-bioc\R\bin\R.exe --arch x64 CMD INSTALL --no-multiarch --build --library=DeconRNASeq.buildbin-libdir DeconRNASeq_1.28.0.tar.gz
###
##############################################################################
##############################################################################
* installing *source* package 'DeconRNASeq' ...
** using staged installation
** R
** data
** demo
** inst
** byte-compile and prepare package for lazy loading
** help
*** installing help indices
  converting help for package 'DeconRNASeq'
    finding HTML links ... done
    DeconRNASeq-package                     html  
    DeconRNASeq                             html  
    all.datasets                            html  
    array.proportions                       html  
    array.signatures                        html  
    condplot                                html  
    datasets                                html  
    decon.bootstrap                         html  
    fraction                                html  
    liver_kidney                            html  
    multi_tissue                            html  
    multiplot                               html  
    proportions                             html  
    rmse                                    html  
    signatures                              html  
    x.data                                  html  
    x.signature                             html  
    x.signature.filtered                    html  
    x.signature.filtered.optimal            html  
** building package indices
** installing vignettes
** testing if installed package can be loaded from temporary location
** testing if installed package can be loaded from final location
** testing if installed package keeps a record of temporary installation path
* MD5 sums
packaged installation of 'DeconRNASeq' as DeconRNASeq_1.28.0.zip
* DONE (DeconRNASeq)