| Back to Multiple platform build/check report for BioC 3.10 | 
 | 
This page was generated on 2020-04-15 12:26:21 -0400 (Wed, 15 Apr 2020).
| Package 484/1823 | Hostname | OS / Arch | INSTALL | BUILD | CHECK | BUILD BIN | ||||||
| DRIMSeq 1.14.0 Malgorzata Nowicka 
 | malbec1 | Linux (Ubuntu 18.04.4 LTS) / x86_64 | OK | OK | WARNINGS |  | ||||||
| tokay1 | Windows Server 2012 R2 Standard / x64 | [ OK ] | OK | WARNINGS | OK |  | ||||||
| merida1 | OS X 10.11.6 El Capitan / x86_64 | OK | OK | WARNINGS | OK |  | 
| Package: DRIMSeq | 
| Version: 1.14.0 | 
| Command: C:\cygwin\bin\curl.exe -O https://malbec1.bioconductor.org/BBS/3.10/bioc/src/contrib/DRIMSeq_1.14.0.tar.gz && rm -rf DRIMSeq.buildbin-libdir && mkdir DRIMSeq.buildbin-libdir && C:\Users\biocbuild\bbs-3.10-bioc\R\bin\R.exe CMD INSTALL --merge-multiarch --build --library=DRIMSeq.buildbin-libdir DRIMSeq_1.14.0.tar.gz && C:\Users\biocbuild\bbs-3.10-bioc\R\bin\R.exe CMD INSTALL DRIMSeq_1.14.0.zip && rm DRIMSeq_1.14.0.tar.gz DRIMSeq_1.14.0.zip | 
| StartedAt: 2020-04-14 19:50:27 -0400 (Tue, 14 Apr 2020) | 
| EndedAt: 2020-04-14 19:50:55 -0400 (Tue, 14 Apr 2020) | 
| EllapsedTime: 27.7 seconds | 
| RetCode: 0 | 
| Status: OK | 
##############################################################################
##############################################################################
###
### Running command:
###
###   C:\cygwin\bin\curl.exe -O https://malbec1.bioconductor.org/BBS/3.10/bioc/src/contrib/DRIMSeq_1.14.0.tar.gz && rm -rf DRIMSeq.buildbin-libdir && mkdir DRIMSeq.buildbin-libdir && C:\Users\biocbuild\bbs-3.10-bioc\R\bin\R.exe CMD INSTALL --merge-multiarch --build --library=DRIMSeq.buildbin-libdir DRIMSeq_1.14.0.tar.gz && C:\Users\biocbuild\bbs-3.10-bioc\R\bin\R.exe CMD INSTALL DRIMSeq_1.14.0.zip && rm DRIMSeq_1.14.0.tar.gz DRIMSeq_1.14.0.zip
###
##############################################################################
##############################################################################
  % Total    % Received % Xferd  Average Speed   Time    Time     Time  Current
                                 Dload  Upload   Total   Spent    Left  Speed
  0     0    0     0    0     0      0      0 --:--:-- --:--:-- --:--:--     0
100 83569  100 83569    0     0  2644k      0 --:--:-- --:--:-- --:--:-- 3022k
install for i386
* installing *source* package 'DRIMSeq' ...
** using staged installation
** R
** inst
** preparing package for lazy loading
** help
*** installing help indices
  converting help for package 'DRIMSeq'
    finding HTML links ... done
    MatrixList-class                        html  
    dmDSdata-class                          html  
    dmDSdata                                html  
    dmDSfit-class                           html  
    dmDSprecision-class                     html  
    dmDStest-class                          html  
    dmFilter                                html  
    dmFit                                   html  
    finding level-2 HTML links ... done
    dmPrecision                             html  
    dmSQTLdata-class                        html  
    dmSQTLdata                              html  
    dmSQTLfit-class                         html  
    dmSQTLprecision-class                   html  
    dmSQTLtest-class                        html  
    dmTest                                  html  
Rd warning: C:/Users/biocbuild/bbs-3.10-bioc/tmpdir/RtmpwpumH2/R.INSTALL2378289aee8/DRIMSeq/man/dmTest.Rd:93: file link 'glmLRT' in package 'edgeR' does not exist and so has been treated as a topic
Rd warning: C:/Users/biocbuild/bbs-3.10-bioc/tmpdir/RtmpwpumH2/R.INSTALL2378289aee8/DRIMSeq/man/dmTest.Rd:193: file link 'glmLRT' in package 'edgeR' does not exist and so has been treated as a topic
    dm_plotDataDSInfo                       html  
    dm_plotProportions                      html  
    plotData                                html  
    plotPValues                             html  
    plotPrecision                           html  
    plotProportions                         html  
** building package indices
** installing vignettes
** testing if installed package can be loaded from temporary location
** testing if installed package can be loaded from final location
** testing if installed package keeps a record of temporary installation path
install for x64
* installing *source* package 'DRIMSeq' ...
** testing if installed package can be loaded
* MD5 sums
packaged installation of 'DRIMSeq' as DRIMSeq_1.14.0.zip
* DONE (DRIMSeq)
* installing to library 'C:/Users/biocbuild/bbs-3.10-bioc/R/library'
package 'DRIMSeq' successfully unpacked and MD5 sums checked