| Back to Multiple platform build/check report for BioC 3.10 | 
 | 
This page was generated on 2020-04-15 12:05:19 -0400 (Wed, 15 Apr 2020).
| Package 451/1823 | Hostname | OS / Arch | INSTALL | BUILD | CHECK | BUILD BIN | ||||||
| DFP 1.44.0 Rodrigo Alvarez-Glez 
 | malbec1 | Linux (Ubuntu 18.04.4 LTS) / x86_64 | OK | [ OK ] | OK |  | ||||||
| tokay1 | Windows Server 2012 R2 Standard / x64 | OK | OK | OK | OK |  | ||||||
| merida1 | OS X 10.11.6 El Capitan / x86_64 | OK | OK | OK | OK |  | 
| Package: DFP | 
| Version: 1.44.0 | 
| Command: /home/biocbuild/bbs-3.10-bioc/R/bin/R CMD build --keep-empty-dirs --no-resave-data DFP | 
| StartedAt: 2020-04-14 19:37:23 -0400 (Tue, 14 Apr 2020) | 
| EndedAt: 2020-04-14 19:37:31 -0400 (Tue, 14 Apr 2020) | 
| EllapsedTime: 8.6 seconds | 
| RetCode: 0 | 
| Status: OK | 
| PackageFile: DFP_1.44.0.tar.gz | 
| PackageFileSize: 421.3 KiB | 
############################################################################## ############################################################################## ### ### Running command: ### ### /home/biocbuild/bbs-3.10-bioc/R/bin/R CMD build --keep-empty-dirs --no-resave-data DFP ### ############################################################################## ############################################################################## * checking for file ‘DFP/DESCRIPTION’ ... OK * preparing ‘DFP’: * checking DESCRIPTION meta-information ... OK * installing the package to build vignettes * creating vignettes ... OK * checking for LF line-endings in source and make files and shell scripts * checking for empty or unneeded directories * looking to see if a ‘data/datalist’ file should be added * building ‘DFP_1.44.0.tar.gz’