| Back to Multiple platform build/check report for BioC 3.10 | 
 | 
This page was generated on 2020-04-15 12:33:29 -0400 (Wed, 15 Apr 2020).
| Package 448/1823 | Hostname | OS / Arch | INSTALL | BUILD | CHECK | BUILD BIN | ||||||
| DEWSeq 1.0.6 Hentze bioinformatics team 
 | malbec1 | Linux (Ubuntu 18.04.4 LTS) / x86_64 | OK | OK | OK |  | ||||||
| tokay1 | Windows Server 2012 R2 Standard / x64 | OK | OK | OK | [ OK ] |  | ||||||
| merida1 | OS X 10.11.6 El Capitan / x86_64 | OK | OK | OK | OK |  | 
| Package: DEWSeq | 
| Version: 1.0.6 | 
| Command: rm -rf DEWSeq.buildbin-libdir && mkdir DEWSeq.buildbin-libdir && C:\Users\biocbuild\bbs-3.10-bioc\R\bin\R.exe CMD INSTALL --merge-multiarch --build --library=DEWSeq.buildbin-libdir DEWSeq_1.0.6.tar.gz | 
| StartedAt: 2020-04-15 08:35:16 -0400 (Wed, 15 Apr 2020) | 
| EndedAt: 2020-04-15 08:36:02 -0400 (Wed, 15 Apr 2020) | 
| EllapsedTime: 45.4 seconds | 
| RetCode: 0 | 
| Status: OK | 
| PackageFile: DEWSeq_1.0.6.zip | 
| PackageFileSize: 2.345 MiB | 
##############################################################################
##############################################################################
###
### Running command:
###
###   rm -rf DEWSeq.buildbin-libdir && mkdir DEWSeq.buildbin-libdir && C:\Users\biocbuild\bbs-3.10-bioc\R\bin\R.exe CMD INSTALL --merge-multiarch --build --library=DEWSeq.buildbin-libdir DEWSeq_1.0.6.tar.gz
###
##############################################################################
##############################################################################
install for i386
* installing *source* package 'DEWSeq' ...
** using staged installation
** R
** data
** inst
** byte-compile and prepare package for lazy loading
** help
*** installing help indices
  converting help for package 'DEWSeq'
    finding HTML links ... done
    DESeqDataSetFromSlidingWindows          html  
    SLBP_K562_w50s20                        html  
    dot-readAnnotation                      html  
    extractRegions                          html  
    resultsDEWSeq                           html  
    finding level-2 HTML links ... done
    slbpDds                                 html  
    slbpRegions                             html  
    slbpVst                                 html  
    slbpWindows                             html  
    toBED                                   html  
    topWindowStats                          html  
** building package indices
** installing vignettes
** testing if installed package can be loaded from temporary location
** testing if installed package can be loaded from final location
** testing if installed package keeps a record of temporary installation path
install for x64
* installing *source* package 'DEWSeq' ...
** testing if installed package can be loaded
* MD5 sums
packaged installation of 'DEWSeq' as DEWSeq_1.0.6.zip
* DONE (DEWSeq)