| Back to Multiple platform build/check report for BioC 3.10 |
|
This page was generated on 2020-04-15 12:42:30 -0400 (Wed, 15 Apr 2020).
| Package 406/1823 | Hostname | OS / Arch | INSTALL | BUILD | CHECK | BUILD BIN | ||||||
| DAPAR 1.18.5 Samuel Wieczorek
| malbec1 | Linux (Ubuntu 18.04.4 LTS) / x86_64 | OK | OK | OK | |||||||
| tokay1 | Windows Server 2012 R2 Standard / x64 | OK | OK | OK | OK | |||||||
| merida1 | OS X 10.11.6 El Capitan / x86_64 | OK | OK | OK | [ OK ] |
| Package: DAPAR |
| Version: 1.18.5 |
| Command: rm -rf DAPAR.buildbin-libdir && mkdir DAPAR.buildbin-libdir && /Users/biocbuild/BBS/utils/build-universal.sh DAPAR_1.18.5.tar.gz /Library/Frameworks/R.framework/Versions/Current/Resources/bin/R DAPAR.buildbin-libdir |
| StartedAt: 2020-04-15 07:14:53 -0400 (Wed, 15 Apr 2020) |
| EndedAt: 2020-04-15 07:15:39 -0400 (Wed, 15 Apr 2020) |
| EllapsedTime: 45.6 seconds |
| RetCode: 0 |
| Status: OK |
| PackageFile: DAPAR_1.18.5.tgz |
| PackageFileSize: 2.091 MiB |
############################################################################## ############################################################################## ### ### Running command: ### ### rm -rf DAPAR.buildbin-libdir && mkdir DAPAR.buildbin-libdir && /Users/biocbuild/BBS/utils/build-universal.sh DAPAR_1.18.5.tar.gz /Library/Frameworks/R.framework/Versions/Current/Resources/bin/R DAPAR.buildbin-libdir ### ############################################################################## ############################################################################## >>>>>>> >>>>>>> INSTALLATION WITH 'R CMD INSTALL --preclean --no-multiarch --library=DAPAR.buildbin-libdir DAPAR_1.18.5.tar.gz' >>>>>>> * installing *source* package ‘DAPAR’ ... ** using staged installation ** R ** inst ** byte-compile and prepare package for lazy loading ** help *** installing help indices ** building package indices ** installing vignettes ** testing if installed package can be loaded from temporary location ** testing if installed package can be loaded from final location ** testing if installed package keeps a record of temporary installation path * DONE (DAPAR)