| Back to Multiple platform build/check report for BioC 3.10 | 
 | 
This page was generated on 2020-04-15 12:30:18 -0400 (Wed, 15 Apr 2020).
| Package 398/1823 | Hostname | OS / Arch | INSTALL | BUILD | CHECK | BUILD BIN | ||||||
| CytoDx 1.6.0 Zicheng Hu 
 | malbec1 | Linux (Ubuntu 18.04.4 LTS) / x86_64 | OK | OK | OK |  | ||||||
| tokay1 | Windows Server 2012 R2 Standard / x64 | OK | OK | OK | [ OK ] |  | ||||||
| merida1 | OS X 10.11.6 El Capitan / x86_64 | OK | OK | OK | OK |  | 
| Package: CytoDx | 
| Version: 1.6.0 | 
| Command: rm -rf CytoDx.buildbin-libdir && mkdir CytoDx.buildbin-libdir && C:\Users\biocbuild\bbs-3.10-bioc\R\bin\R.exe CMD INSTALL --merge-multiarch --build --library=CytoDx.buildbin-libdir CytoDx_1.6.0.tar.gz | 
| StartedAt: 2020-04-15 08:31:38 -0400 (Wed, 15 Apr 2020) | 
| EndedAt: 2020-04-15 08:32:12 -0400 (Wed, 15 Apr 2020) | 
| EllapsedTime: 33.9 seconds | 
| RetCode: 0 | 
| Status: OK | 
| PackageFile: CytoDx_1.6.0.zip | 
| PackageFileSize: 567.9 KiB | 
##############################################################################
##############################################################################
###
### Running command:
###
###   rm -rf CytoDx.buildbin-libdir && mkdir CytoDx.buildbin-libdir && C:\Users\biocbuild\bbs-3.10-bioc\R\bin\R.exe CMD INSTALL --merge-multiarch --build --library=CytoDx.buildbin-libdir CytoDx_1.6.0.tar.gz
###
##############################################################################
##############################################################################
install for i386
* installing *source* package 'CytoDx' ...
** using staged installation
** R
** inst
** byte-compile and prepare package for lazy loading
** help
*** installing help indices
  converting help for package 'CytoDx'
    finding HTML links ... done
    CytoDx.fit                              html  
    CytoDx.pred                             html  
    fcs2DF                                  html  
    meanUnique                              html  
    pRank                                   html  
    rank.ub.average                         html  
    set2DF                                  html  
    treeGate                                html  
** building package indices
** installing vignettes
** testing if installed package can be loaded from temporary location
** testing if installed package can be loaded from final location
** testing if installed package keeps a record of temporary installation path
install for x64
* installing *source* package 'CytoDx' ...
** testing if installed package can be loaded
* MD5 sums
packaged installation of 'CytoDx' as CytoDx_1.6.0.zip
* DONE (CytoDx)