| Back to Multiple platform build/check report for BioC 3.10 | 
 | 
This page was generated on 2020-04-15 12:36:10 -0400 (Wed, 15 Apr 2020).
| Package 352/1823 | Hostname | OS / Arch | INSTALL | BUILD | CHECK | BUILD BIN | ||||||
| ConsensusClusterPlus 1.50.0 Matt Wilkerson 
 | malbec1 | Linux (Ubuntu 18.04.4 LTS) / x86_64 | OK | OK | OK |  | ||||||
| tokay1 | Windows Server 2012 R2 Standard / x64 | OK | OK | OK | OK |  | ||||||
| merida1 | OS X 10.11.6 El Capitan / x86_64 | OK | OK | OK | [ OK ] |  | 
| Package: ConsensusClusterPlus | 
| Version: 1.50.0 | 
| Command: rm -rf ConsensusClusterPlus.buildbin-libdir && mkdir ConsensusClusterPlus.buildbin-libdir && /Users/biocbuild/BBS/utils/build-universal.sh ConsensusClusterPlus_1.50.0.tar.gz /Library/Frameworks/R.framework/Versions/Current/Resources/bin/R ConsensusClusterPlus.buildbin-libdir | 
| StartedAt: 2020-04-15 07:11:02 -0400 (Wed, 15 Apr 2020) | 
| EndedAt: 2020-04-15 07:11:55 -0400 (Wed, 15 Apr 2020) | 
| EllapsedTime: 52.9 seconds | 
| RetCode: 0 | 
| Status: OK | 
| PackageFile: ConsensusClusterPlus_1.50.0.tgz | 
| PackageFileSize: 323.9 KiB | 
############################################################################## ############################################################################## ### ### Running command: ### ### rm -rf ConsensusClusterPlus.buildbin-libdir && mkdir ConsensusClusterPlus.buildbin-libdir && /Users/biocbuild/BBS/utils/build-universal.sh ConsensusClusterPlus_1.50.0.tar.gz /Library/Frameworks/R.framework/Versions/Current/Resources/bin/R ConsensusClusterPlus.buildbin-libdir ### ############################################################################## ############################################################################## >>>>>>> >>>>>>> INSTALLATION WITH 'R CMD INSTALL --preclean --no-multiarch --library=ConsensusClusterPlus.buildbin-libdir ConsensusClusterPlus_1.50.0.tar.gz' >>>>>>> * installing *source* package ‘ConsensusClusterPlus’ ... ** using staged installation ** R ** inst ** byte-compile and prepare package for lazy loading ** help *** installing help indices ** building package indices ** installing vignettes ** testing if installed package can be loaded from temporary location ** testing if installed package can be loaded from final location ** testing if installed package keeps a record of temporary installation path * DONE (ConsensusClusterPlus)