| Back to Multiple platform build/check report for BioC 3.10 |
|
This page was generated on 2020-04-15 12:26:37 -0400 (Wed, 15 Apr 2020).
| Package 312/1823 | Hostname | OS / Arch | INSTALL | BUILD | CHECK | BUILD BIN | ||||||
| ClusterSignificance 1.14.0 Jason T Serviss
| malbec1 | Linux (Ubuntu 18.04.4 LTS) / x86_64 | OK | OK | OK | |||||||
| tokay1 | Windows Server 2012 R2 Standard / x64 | [ OK ] | OK | OK | OK | |||||||
| merida1 | OS X 10.11.6 El Capitan / x86_64 | OK | OK | OK | OK |
| Package: ClusterSignificance |
| Version: 1.14.0 |
| Command: C:\cygwin\bin\curl.exe -O https://malbec1.bioconductor.org/BBS/3.10/bioc/src/contrib/ClusterSignificance_1.14.0.tar.gz && rm -rf ClusterSignificance.buildbin-libdir && mkdir ClusterSignificance.buildbin-libdir && C:\Users\biocbuild\bbs-3.10-bioc\R\bin\R.exe CMD INSTALL --merge-multiarch --build --library=ClusterSignificance.buildbin-libdir ClusterSignificance_1.14.0.tar.gz && C:\Users\biocbuild\bbs-3.10-bioc\R\bin\R.exe CMD INSTALL ClusterSignificance_1.14.0.zip && rm ClusterSignificance_1.14.0.tar.gz ClusterSignificance_1.14.0.zip |
| StartedAt: 2020-04-14 18:33:23 -0400 (Tue, 14 Apr 2020) |
| EndedAt: 2020-04-14 18:33:53 -0400 (Tue, 14 Apr 2020) |
| EllapsedTime: 29.5 seconds |
| RetCode: 0 |
| Status: OK |
##############################################################################
##############################################################################
###
### Running command:
###
### C:\cygwin\bin\curl.exe -O https://malbec1.bioconductor.org/BBS/3.10/bioc/src/contrib/ClusterSignificance_1.14.0.tar.gz && rm -rf ClusterSignificance.buildbin-libdir && mkdir ClusterSignificance.buildbin-libdir && C:\Users\biocbuild\bbs-3.10-bioc\R\bin\R.exe CMD INSTALL --merge-multiarch --build --library=ClusterSignificance.buildbin-libdir ClusterSignificance_1.14.0.tar.gz && C:\Users\biocbuild\bbs-3.10-bioc\R\bin\R.exe CMD INSTALL ClusterSignificance_1.14.0.zip && rm ClusterSignificance_1.14.0.tar.gz ClusterSignificance_1.14.0.zip
###
##############################################################################
##############################################################################
% Total % Received % Xferd Average Speed Time Time Time Current
Dload Upload Total Spent Left Speed
0 0 0 0 0 0 0 0 --:--:-- --:--:-- --:--:-- 0
100 806k 100 806k 0 0 13.0M 0 --:--:-- --:--:-- --:--:-- 13.8M
install for i386
* installing *source* package 'ClusterSignificance' ...
** using staged installation
** R
** data
*** moving datasets to lazyload DB
** inst
** byte-compile and prepare package for lazy loading
** help
*** installing help indices
converting help for package 'ClusterSignificance'
finding HTML links ... done
ClusterSignificance-package html
classify html
mlp html
mlpMatrix html
pcp html
pcpMatrix html
permute html
*** copying figures
** building package indices
** installing vignettes
** testing if installed package can be loaded from temporary location
** testing if installed package can be loaded from final location
** testing if installed package keeps a record of temporary installation path
install for x64
* installing *source* package 'ClusterSignificance' ...
** testing if installed package can be loaded
* MD5 sums
packaged installation of 'ClusterSignificance' as ClusterSignificance_1.14.0.zip
* DONE (ClusterSignificance)
* installing to library 'C:/Users/biocbuild/bbs-3.10-bioc/R/library'
package 'ClusterSignificance' successfully unpacked and MD5 sums checked