| Back to Multiple platform build/check report for BioC 3.10 |
|
This page was generated on 2020-04-15 12:19:37 -0400 (Wed, 15 Apr 2020).
| Package 302/1823 | Hostname | OS / Arch | INSTALL | BUILD | CHECK | BUILD BIN | ||||||
| Clonality 1.34.0 Irina Ostrovnaya
| malbec1 | Linux (Ubuntu 18.04.4 LTS) / x86_64 | OK | OK | OK | |||||||
| tokay1 | Windows Server 2012 R2 Standard / x64 | OK | [ OK ] | OK | OK | |||||||
| merida1 | OS X 10.11.6 El Capitan / x86_64 | OK | OK | OK | OK |
| Package: Clonality |
| Version: 1.34.0 |
| Command: chmod a+r Clonality -R && C:\Users\biocbuild\bbs-3.10-bioc\R\bin\R.exe CMD build --keep-empty-dirs --no-resave-data Clonality |
| StartedAt: 2020-04-14 21:13:50 -0400 (Tue, 14 Apr 2020) |
| EndedAt: 2020-04-14 21:15:31 -0400 (Tue, 14 Apr 2020) |
| EllapsedTime: 101.2 seconds |
| RetCode: 0 |
| Status: OK |
| PackageFile: Clonality_1.34.0.tar.gz |
| PackageFileSize: 2.415 MiB |
##############################################################################
##############################################################################
###
### Running command:
###
### chmod a+r Clonality -R && C:\Users\biocbuild\bbs-3.10-bioc\R\bin\R.exe CMD build --keep-empty-dirs --no-resave-data Clonality
###
##############################################################################
##############################################################################
* checking for file 'Clonality/DESCRIPTION' ... OK
* preparing 'Clonality':
* checking DESCRIPTION meta-information ... OK
* installing the package to build vignettes
* creating vignettes ... OK
Warning: 'inst/doc' files
'Clonality.Rnw', 'Clonality.pdf'
ignored as vignettes have been rebuilt.
Run R CMD build with --no-build-vignettes to prevent rebuilding.
* checking for LF line-endings in source and make files and shell scripts
* checking for empty or unneeded directories
* looking to see if a 'data/datalist' file should be added
* building 'Clonality_1.34.0.tar.gz'