| Back to Multiple platform build/check report for BioC 3.10 |
|
This page was generated on 2020-04-15 12:27:48 -0400 (Wed, 15 Apr 2020).
| Package 273/1823 | Hostname | OS / Arch | INSTALL | BUILD | CHECK | BUILD BIN | ||||||
| ChIPexoQual 1.10.0 Rene Welch
| malbec1 | Linux (Ubuntu 18.04.4 LTS) / x86_64 | OK | OK | OK | |||||||
| tokay1 | Windows Server 2012 R2 Standard / x64 | OK | OK | OK | [ OK ] | |||||||
| merida1 | OS X 10.11.6 El Capitan / x86_64 | OK | OK | OK | OK |
| Package: ChIPexoQual |
| Version: 1.10.0 |
| Command: rm -rf ChIPexoQual.buildbin-libdir && mkdir ChIPexoQual.buildbin-libdir && C:\Users\biocbuild\bbs-3.10-bioc\R\bin\R.exe CMD INSTALL --merge-multiarch --build --library=ChIPexoQual.buildbin-libdir ChIPexoQual_1.10.0.tar.gz |
| StartedAt: 2020-04-15 08:23:34 -0400 (Wed, 15 Apr 2020) |
| EndedAt: 2020-04-15 08:24:35 -0400 (Wed, 15 Apr 2020) |
| EllapsedTime: 61.0 seconds |
| RetCode: 0 |
| Status: OK |
| PackageFile: ChIPexoQual_1.10.0.zip |
| PackageFileSize: 2.208 MiB |
##############################################################################
##############################################################################
###
### Running command:
###
### rm -rf ChIPexoQual.buildbin-libdir && mkdir ChIPexoQual.buildbin-libdir && C:\Users\biocbuild\bbs-3.10-bioc\R\bin\R.exe CMD INSTALL --merge-multiarch --build --library=ChIPexoQual.buildbin-libdir ChIPexoQual_1.10.0.tar.gz
###
##############################################################################
##############################################################################
install for i386
* installing *source* package 'ChIPexoQual' ...
** using staged installation
** R
** data
** inst
** byte-compile and prepare package for lazy loading
** help
*** installing help indices
converting help for package 'ChIPexoQual'
finding HTML links ... done
ARCvURCplot html
ExoData html
ExoDataBlacklist html
ExoDataSubsampling html
FSRDistplot html
MAplot html
beta1-methods html
beta2-methods html
blacklists html
calculateParamDist html
exoExample html
formatRegions html
nreads-methods html
paramDist-methods html
paramDistBoxplot html
regionCompplot html
** building package indices
** installing vignettes
** testing if installed package can be loaded from temporary location
** testing if installed package can be loaded from final location
** testing if installed package keeps a record of temporary installation path
install for x64
* installing *source* package 'ChIPexoQual' ...
** testing if installed package can be loaded
* MD5 sums
packaged installation of 'ChIPexoQual' as ChIPexoQual_1.10.0.zip
* DONE (ChIPexoQual)