| Back to Multiple platform build/check report for BioC 3.10 | 
 | 
This page was generated on 2020-04-15 12:39:53 -0400 (Wed, 15 Apr 2020).
| Package 275/1823 | Hostname | OS / Arch | INSTALL | BUILD | CHECK | BUILD BIN | ||||||
| ChIPQC 1.22.0 Tom Carroll 
 | malbec1 | Linux (Ubuntu 18.04.4 LTS) / x86_64 | OK | OK | WARNINGS |  | ||||||
| tokay1 | Windows Server 2012 R2 Standard / x64 | OK | OK | WARNINGS | OK |  | ||||||
| merida1 | OS X 10.11.6 El Capitan / x86_64 | OK | OK | WARNINGS | [ OK ] |  | 
| Package: ChIPQC | 
| Version: 1.22.0 | 
| Command: rm -rf ChIPQC.buildbin-libdir && mkdir ChIPQC.buildbin-libdir && /Users/biocbuild/BBS/utils/build-universal.sh ChIPQC_1.22.0.tar.gz /Library/Frameworks/R.framework/Versions/Current/Resources/bin/R ChIPQC.buildbin-libdir | 
| StartedAt: 2020-04-15 07:05:03 -0400 (Wed, 15 Apr 2020) | 
| EndedAt: 2020-04-15 07:06:11 -0400 (Wed, 15 Apr 2020) | 
| EllapsedTime: 68.3 seconds | 
| RetCode: 0 | 
| Status: OK | 
| PackageFile: ChIPQC_1.22.0.tgz | 
| PackageFileSize: 1.885 MiB | 
############################################################################## ############################################################################## ### ### Running command: ### ### rm -rf ChIPQC.buildbin-libdir && mkdir ChIPQC.buildbin-libdir && /Users/biocbuild/BBS/utils/build-universal.sh ChIPQC_1.22.0.tar.gz /Library/Frameworks/R.framework/Versions/Current/Resources/bin/R ChIPQC.buildbin-libdir ### ############################################################################## ############################################################################## >>>>>>> >>>>>>> INSTALLATION WITH 'R CMD INSTALL --preclean --no-multiarch --library=ChIPQC.buildbin-libdir ChIPQC_1.22.0.tar.gz' >>>>>>> * installing *source* package ‘ChIPQC’ ... ** using staged installation ** R ** data ** inst ** byte-compile and prepare package for lazy loading ** help *** installing help indices ** building package indices ** installing vignettes ** testing if installed package can be loaded from temporary location ** testing if installed package can be loaded from final location ** testing if installed package keeps a record of temporary installation path * DONE (ChIPQC)