| Back to Multiple platform build/check report for BioC 3.10 |
|
This page was generated on 2020-04-15 12:22:12 -0400 (Wed, 15 Apr 2020).
| Package 252/1823 | Hostname | OS / Arch | INSTALL | BUILD | CHECK | BUILD BIN | ||||||
| CexoR 1.24.0 Pedro Madrigal
| malbec1 | Linux (Ubuntu 18.04.4 LTS) / x86_64 | OK | OK | OK | |||||||
| tokay1 | Windows Server 2012 R2 Standard / x64 | OK | OK | OK | [ OK ] | |||||||
| merida1 | OS X 10.11.6 El Capitan / x86_64 | OK | OK | OK | OK |
| Package: CexoR |
| Version: 1.24.0 |
| Command: rm -rf CexoR.buildbin-libdir && mkdir CexoR.buildbin-libdir && C:\Users\biocbuild\bbs-3.10-bioc\R\bin\R.exe CMD INSTALL --merge-multiarch --build --library=CexoR.buildbin-libdir CexoR_1.24.0.tar.gz |
| StartedAt: 2020-04-15 08:22:20 -0400 (Wed, 15 Apr 2020) |
| EndedAt: 2020-04-15 08:23:13 -0400 (Wed, 15 Apr 2020) |
| EllapsedTime: 53.6 seconds |
| RetCode: 0 |
| Status: OK |
| PackageFile: CexoR_1.24.0.zip |
| PackageFileSize: 1.694 MiB |
##############################################################################
##############################################################################
###
### Running command:
###
### rm -rf CexoR.buildbin-libdir && mkdir CexoR.buildbin-libdir && C:\Users\biocbuild\bbs-3.10-bioc\R\bin\R.exe CMD INSTALL --merge-multiarch --build --library=CexoR.buildbin-libdir CexoR_1.24.0.tar.gz
###
##############################################################################
##############################################################################
install for i386
* installing *source* package 'CexoR' ...
** using staged installation
** R
** inst
** byte-compile and prepare package for lazy loading
** help
*** installing help indices
converting help for package 'CexoR'
finding HTML links ... done
CexoR-internal html
CexoR-package html
cexor html
plotcexor html
** building package indices
** installing vignettes
** testing if installed package can be loaded from temporary location
** testing if installed package can be loaded from final location
** testing if installed package keeps a record of temporary installation path
install for x64
* installing *source* package 'CexoR' ...
** testing if installed package can be loaded
* MD5 sums
packaged installation of 'CexoR' as CexoR_1.24.0.zip
* DONE (CexoR)