| Back to Multiple platform build/check report for BioC 3.10 |
|
This page was generated on 2020-04-15 12:09:41 -0400 (Wed, 15 Apr 2020).
| Package 226/1823 | Hostname | OS / Arch | INSTALL | BUILD | CHECK | BUILD BIN | ||||||
| Cardinal 2.4.0 Kylie A. Bemis
| malbec1 | Linux (Ubuntu 18.04.4 LTS) / x86_64 | OK | OK | [ OK ] | |||||||
| tokay1 | Windows Server 2012 R2 Standard / x64 | OK | OK | OK | OK | |||||||
| merida1 | OS X 10.11.6 El Capitan / x86_64 | OK | OK | OK | OK |
| Package: Cardinal |
| Version: 2.4.0 |
| Command: /home/biocbuild/bbs-3.10-bioc/R/bin/R CMD check --install=check:Cardinal.install-out.txt --library=/home/biocbuild/bbs-3.10-bioc/R/library --no-vignettes --timings Cardinal_2.4.0.tar.gz |
| StartedAt: 2020-04-15 02:47:32 -0400 (Wed, 15 Apr 2020) |
| EndedAt: 2020-04-15 02:52:24 -0400 (Wed, 15 Apr 2020) |
| EllapsedTime: 292.7 seconds |
| RetCode: 0 |
| Status: OK |
| CheckDir: Cardinal.Rcheck |
| Warnings: 0 |
############################################################################## ############################################################################## ### ### Running command: ### ### /home/biocbuild/bbs-3.10-bioc/R/bin/R CMD check --install=check:Cardinal.install-out.txt --library=/home/biocbuild/bbs-3.10-bioc/R/library --no-vignettes --timings Cardinal_2.4.0.tar.gz ### ############################################################################## ############################################################################## * using log directory ‘/home/biocbuild/bbs-3.10-bioc/meat/Cardinal.Rcheck’ * using R version 3.6.3 (2020-02-29) * using platform: x86_64-pc-linux-gnu (64-bit) * using session charset: UTF-8 * using option ‘--no-vignettes’ * checking for file ‘Cardinal/DESCRIPTION’ ... OK * checking extension type ... Package * this is package ‘Cardinal’ version ‘2.4.0’ * checking package namespace information ... OK * checking package dependencies ... OK * checking if this is a source package ... OK * checking if there is a namespace ... OK * checking for hidden files and directories ... OK * checking for portable file names ... OK * checking for sufficient/correct file permissions ... OK * checking whether package ‘Cardinal’ can be installed ... OK * checking installed package size ... OK * checking package directory ... OK * checking ‘build’ directory ... OK * checking DESCRIPTION meta-information ... OK * checking top-level files ... OK * checking for left-over files ... OK * checking index information ... OK * checking package subdirectories ... OK * checking R files for non-ASCII characters ... OK * checking R files for syntax errors ... OK * checking whether the package can be loaded ... OK * checking whether the package can be loaded with stated dependencies ... OK * checking whether the package can be unloaded cleanly ... OK * checking whether the namespace can be loaded with stated dependencies ... OK * checking whether the namespace can be unloaded cleanly ... OK * checking dependencies in R code ... OK * checking S3 generic/method consistency ... OK * checking replacement functions ... OK * checking foreign function calls ... OK * checking R code for possible problems ... OK * checking Rd files ... OK * checking Rd metadata ... OK * checking Rd cross-references ... OK * checking for missing documentation entries ... OK * checking for code/documentation mismatches ... OK * checking Rd \usage sections ... OK * checking Rd contents ... OK * checking for unstated dependencies in examples ... OK * checking line endings in C/C++/Fortran sources/headers ... OK * checking compiled code ... NOTE Note: information on .o files is not available * checking files in ‘vignettes’ ... OK * checking examples ... OK * checking for unstated dependencies in ‘tests’ ... OK * checking tests ... Running ‘testthat.R’ OK * checking for unstated dependencies in vignettes ... OK * checking package vignettes in ‘inst/doc’ ... OK * checking running R code from vignettes ... SKIPPED * checking re-building of vignette outputs ... SKIPPED * checking PDF version of manual ... OK * DONE Status: 1 NOTE See ‘/home/biocbuild/bbs-3.10-bioc/meat/Cardinal.Rcheck/00check.log’ for details.
Cardinal.Rcheck/00install.out
############################################################################## ############################################################################## ### ### Running command: ### ### /home/biocbuild/bbs-3.10-bioc/R/bin/R CMD INSTALL Cardinal ### ############################################################################## ############################################################################## * installing to library ‘/home/biocbuild/bbs-3.10-bioc/R/library’ * installing *source* package ‘Cardinal’ ... ** using staged installation ** libs g++ -std=gnu++11 -I"/home/biocbuild/bbs-3.10-bioc/R/include" -DNDEBUG -I/usr/local/include -fpic -g -O2 -Wall -c DIP.cpp -o DIP.o g++ -std=gnu++11 -I"/home/biocbuild/bbs-3.10-bioc/R/include" -DNDEBUG -I/usr/local/include -fpic -g -O2 -Wall -c dynAlign.cpp -o dynAlign.o g++ -std=gnu++11 -I"/home/biocbuild/bbs-3.10-bioc/R/include" -DNDEBUG -I/usr/local/include -fpic -g -O2 -Wall -c imzML.cpp -o imzML.o g++ -std=gnu++11 -I"/home/biocbuild/bbs-3.10-bioc/R/include" -DNDEBUG -I/usr/local/include -fpic -g -O2 -Wall -c init.cpp -o init.o g++ -std=gnu++11 -I"/home/biocbuild/bbs-3.10-bioc/R/include" -DNDEBUG -I/usr/local/include -fpic -g -O2 -Wall -c pugixml.cpp -o pugixml.o g++ -std=gnu++11 -I"/home/biocbuild/bbs-3.10-bioc/R/include" -DNDEBUG -I/usr/local/include -fpic -g -O2 -Wall -c spatial.cpp -o spatial.o g++ -std=gnu++11 -I"/home/biocbuild/bbs-3.10-bioc/R/include" -DNDEBUG -I/usr/local/include -fpic -g -O2 -Wall -c utils.cpp -o utils.o g++ -std=gnu++11 -shared -L/home/biocbuild/bbs-3.10-bioc/R/lib -L/usr/local/lib -o Cardinal.so DIP.o dynAlign.o imzML.o init.o pugixml.o spatial.o utils.o -L/home/biocbuild/bbs-3.10-bioc/R/lib -lR installing to /home/biocbuild/bbs-3.10-bioc/R/library/00LOCK-Cardinal/00new/Cardinal/libs ** R ** inst ** byte-compile and prepare package for lazy loading ** help *** installing help indices ** building package indices ** installing vignettes ** testing if installed package can be loaded from temporary location ** checking absolute paths in shared objects and dynamic libraries ** testing if installed package can be loaded from final location ** testing if installed package keeps a record of temporary installation path * DONE (Cardinal)
Cardinal.Rcheck/tests/testthat.Rout
R version 3.6.3 (2020-02-29) -- "Holding the Windsock"
Copyright (C) 2020 The R Foundation for Statistical Computing
Platform: x86_64-pc-linux-gnu (64-bit)
R is free software and comes with ABSOLUTELY NO WARRANTY.
You are welcome to redistribute it under certain conditions.
Type 'license()' or 'licence()' for distribution details.
R is a collaborative project with many contributors.
Type 'contributors()' for more information and
'citation()' on how to cite R or R packages in publications.
Type 'demo()' for some demos, 'help()' for on-line help, or
'help.start()' for an HTML browser interface to help.
Type 'q()' to quit R.
> library(testthat)
> library(Cardinal)
Loading required package: BiocGenerics
Loading required package: parallel
Attaching package: 'BiocGenerics'
The following objects are masked from 'package:parallel':
clusterApply, clusterApplyLB, clusterCall, clusterEvalQ,
clusterExport, clusterMap, parApply, parCapply, parLapply,
parLapplyLB, parRapply, parSapply, parSapplyLB
The following objects are masked from 'package:stats':
IQR, mad, sd, var, xtabs
The following objects are masked from 'package:base':
Filter, Find, Map, Position, Reduce, anyDuplicated, append,
as.data.frame, basename, cbind, colnames, dirname, do.call,
duplicated, eval, evalq, get, grep, grepl, intersect, is.unsorted,
lapply, mapply, match, mget, order, paste, pmax, pmax.int, pmin,
pmin.int, rank, rbind, rownames, sapply, setdiff, sort, table,
tapply, union, unique, unsplit, which, which.max, which.min
Loading required package: BiocParallel
Loading required package: EBImage
Loading required package: S4Vectors
Loading required package: stats4
Attaching package: 'S4Vectors'
The following object is masked from 'package:base':
expand.grid
Loading required package: ProtGenerics
Attaching package: 'ProtGenerics'
The following object is masked from 'package:stats':
smooth
Attaching package: 'Cardinal'
The following object is masked from 'package:stats':
filter
>
> test_check("Cardinal")
══ testthat results ═══════════════════════════════════════════════════════════
[ OK: 479 | SKIPPED: 8 | WARNINGS: 0 | FAILED: 0 ]
>
> proc.time()
user system elapsed
62.216 1.004 64.007
Cardinal.Rcheck/Cardinal-Ex.timings
| name | user | system | elapsed | |
| AnnotatedImagingExperiment-class | 0.144 | 0.004 | 0.222 | |
| Hashmat-class | 0.104 | 0.008 | 0.113 | |
| IAnnotatedDataFrame-class | 0.140 | 0.004 | 0.153 | |
| ImageData-class | 0.032 | 0.000 | 0.033 | |
| ImageList-class | 0.096 | 0.000 | 0.095 | |
| ImagingExperiment-class | 0.044 | 0.008 | 0.054 | |
| MIAPE-Imaging-class | 0.000 | 0.000 | 0.003 | |
| MSImageData-class | 0.168 | 0.012 | 0.184 | |
| MSImageProcess-class | 0.000 | 0.000 | 0.001 | |
| MSImageSet-class | 0.332 | 0.016 | 0.352 | |
| MSImagingExperiment-class | 0.128 | 0.000 | 0.130 | |
| MSImagingInfo-class | 0.404 | 0.000 | 0.408 | |
| MassDataFrame-class | 0.004 | 0.000 | 0.008 | |
| PCA-methods | 1.764 | 0.256 | 2.096 | |
| PLS-methods | 0.944 | 0.008 | 0.953 | |
| PositionDataFrame-class | 0.016 | 0.000 | 0.017 | |
| SImageData-class | 0.056 | 0.004 | 0.059 | |
| SImageSet-class | 0.128 | 0.004 | 0.131 | |
| SparseImagingExperiment-class | 0.048 | 0.004 | 0.050 | |
| XDataFrame-class | 0.012 | 0.000 | 0.010 | |
| colocalized-methods | 1.416 | 0.036 | 1.493 | |
| colors-functions | 1.020 | 0.000 | 1.033 | |
| dplyr-methods | 1.328 | 0.016 | 1.378 | |
| findNeighbors-methods | 0.056 | 0.012 | 0.068 | |
| iSet-class | 0.036 | 0.000 | 0.037 | |
| image-methods | 0.888 | 0.000 | 0.939 | |
| meansTest-methods | 3.584 | 0.052 | 3.679 | |
| mz-methods | 0.000 | 0.000 | 0.002 | |
| mzAlign-methods | 1.004 | 0.004 | 1.009 | |
| mzBin-methods | 0.416 | 0.000 | 0.413 | |
| mzFilter-methods | 1.152 | 0.004 | 1.186 | |
| normalize-methods | 0.352 | 0.000 | 0.353 | |
| peakAlign-methods | 0.676 | 0.004 | 0.681 | |
| peakBin-methods | 0.440 | 0.000 | 0.445 | |
| peakPick-methods | 0.380 | 0.000 | 0.383 | |
| pixelApply-methods | 1.464 | 0.020 | 1.493 | |
| plot-methods | 1.284 | 0.008 | 1.298 | |
| process-methods | 1.756 | 0.020 | 1.824 | |
| reduceBaseline-methods | 0.512 | 0.000 | 0.514 | |
| simulateSpectrum | 0.784 | 0.000 | 0.789 | |
| slice-methods | 0.636 | 0.004 | 0.716 | |
| smoothSignal-methods | 0.476 | 0.000 | 0.477 | |
| spatialDGMM-methods | 2.068 | 0.012 | 2.119 | |
| spatialFastmap-methods | 0.756 | 0.004 | 0.767 | |
| spatialKMeans-methods | 1.472 | 0.020 | 1.497 | |
| spatialShrunkenCentroids-methods | 1.872 | 0.008 | 1.886 | |
| topFeatures-methods | 0.892 | 0.000 | 0.893 | |