| Back to Multiple platform build/check report for BioC 3.10 | 
 | 
This page was generated on 2020-04-15 12:20:55 -0400 (Wed, 15 Apr 2020).
| Package 321/1823 | Hostname | OS / Arch | INSTALL | BUILD | CHECK | BUILD BIN | ||||||
| CNORfuzzy 1.28.0 T. Cokelaer 
 | malbec1 | Linux (Ubuntu 18.04.4 LTS) / x86_64 | OK | OK | OK |  | ||||||
| tokay1 | Windows Server 2012 R2 Standard / x64 | [ OK ] | OK | OK | OK |  | ||||||
| merida1 | OS X 10.11.6 El Capitan / x86_64 | OK | OK | OK | OK |  | 
| Package: CNORfuzzy | 
| Version: 1.28.0 | 
| Command: C:\cygwin\bin\curl.exe -O https://malbec1.bioconductor.org/BBS/3.10/bioc/src/contrib/CNORfuzzy_1.28.0.tar.gz && rm -rf CNORfuzzy.buildbin-libdir && mkdir CNORfuzzy.buildbin-libdir && C:\Users\biocbuild\bbs-3.10-bioc\R\bin\R.exe CMD INSTALL --merge-multiarch --build --library=CNORfuzzy.buildbin-libdir CNORfuzzy_1.28.0.tar.gz && C:\Users\biocbuild\bbs-3.10-bioc\R\bin\R.exe CMD INSTALL CNORfuzzy_1.28.0.zip && rm CNORfuzzy_1.28.0.tar.gz CNORfuzzy_1.28.0.zip | 
| StartedAt: 2020-04-14 19:45:03 -0400 (Tue, 14 Apr 2020) | 
| EndedAt: 2020-04-14 19:45:31 -0400 (Tue, 14 Apr 2020) | 
| EllapsedTime: 27.7 seconds | 
| RetCode: 0 | 
| Status: OK | 
##############################################################################
##############################################################################
###
### Running command:
###
###   C:\cygwin\bin\curl.exe -O https://malbec1.bioconductor.org/BBS/3.10/bioc/src/contrib/CNORfuzzy_1.28.0.tar.gz && rm -rf CNORfuzzy.buildbin-libdir && mkdir CNORfuzzy.buildbin-libdir && C:\Users\biocbuild\bbs-3.10-bioc\R\bin\R.exe CMD INSTALL --merge-multiarch --build --library=CNORfuzzy.buildbin-libdir CNORfuzzy_1.28.0.tar.gz && C:\Users\biocbuild\bbs-3.10-bioc\R\bin\R.exe CMD INSTALL CNORfuzzy_1.28.0.zip && rm CNORfuzzy_1.28.0.tar.gz CNORfuzzy_1.28.0.zip
###
##############################################################################
##############################################################################
  % Total    % Received % Xferd  Average Speed   Time    Time     Time  Current
                                 Dload  Upload   Total   Spent    Left  Speed
  0     0    0     0    0     0      0      0 --:--:-- --:--:-- --:--:--     0
100  411k  100  411k    0     0  2896k      0 --:--:-- --:--:-- --:--:-- 2980k
install for i386
* installing *source* package 'CNORfuzzy' ...
** using staged installation
** libs
C:/Rtools/mingw_32/bin/gcc  -I"C:/Users/BIOCBU~1/BBS-3~1.10-/R/include" -DNDEBUG     -I"C:/extsoft/include"     -O3 -Wall  -std=gnu99 -mtune=core2 -c simulatorT1.c -o simulatorT1.o
C:/Rtools/mingw_32/bin/gcc -shared -s -static-libgcc -o CNORfuzzy.dll tmp.def simulatorT1.o -LC:/extsoft/lib/i386 -LC:/extsoft/lib -LC:/Users/BIOCBU~1/BBS-3~1.10-/R/bin/i386 -lR
installing to C:/Users/biocbuild/bbs-3.10-bioc/meat/CNORfuzzy.buildbin-libdir/00LOCK-CNORfuzzy/00new/CNORfuzzy/libs/i386
** R
** inst
** byte-compile and prepare package for lazy loading
** help
*** installing help indices
  converting help for package 'CNORfuzzy'
    finding HTML links ... done
    CNORfuzzy-package                       html  
    finding level-2 HTML links ... done
    CNORwrapFuzzy                           html  
    compileMultiRes                         html  
    computeScoreFuzzy                       html  
    defaultParametersFuzzy                  html  
    gaDiscreteT1                            html  
    getRefinedModel                         html  
    interpretDiscreteGA                     html  
    plotMeanFuzzyFit                        html  
    prep4simFuzzy                           html  
    reduceFuzzy                             html  
    simFuzzyT1                              html  
    writeFuzzyNetwork                       html  
** building package indices
** installing vignettes
** testing if installed package can be loaded from temporary location
** testing if installed package can be loaded from final location
** testing if installed package keeps a record of temporary installation path
install for x64
* installing *source* package 'CNORfuzzy' ...
** libs
C:/Rtools/mingw_64/bin/gcc  -I"C:/Users/BIOCBU~1/BBS-3~1.10-/R/include" -DNDEBUG     -I"C:/extsoft/include"     -O2 -Wall  -std=gnu99 -mtune=core2 -c simulatorT1.c -o simulatorT1.o
C:/Rtools/mingw_64/bin/gcc -shared -s -static-libgcc -o CNORfuzzy.dll tmp.def simulatorT1.o -LC:/extsoft/lib/x64 -LC:/extsoft/lib -LC:/Users/BIOCBU~1/BBS-3~1.10-/R/bin/x64 -lR
installing to C:/Users/biocbuild/bbs-3.10-bioc/meat/CNORfuzzy.buildbin-libdir/CNORfuzzy/libs/x64
** testing if installed package can be loaded
* MD5 sums
packaged installation of 'CNORfuzzy' as CNORfuzzy_1.28.0.zip
* DONE (CNORfuzzy)
* installing to library 'C:/Users/biocbuild/bbs-3.10-bioc/R/library'
package 'CNORfuzzy' successfully unpacked and MD5 sums checked