| Back to Multiple platform build/check report for BioC 3.10 |
|
This page was generated on 2020-04-15 12:21:30 -0400 (Wed, 15 Apr 2020).
| Package 320/1823 | Hostname | OS / Arch | INSTALL | BUILD | CHECK | BUILD BIN | ||||||
| CNORfeeder 1.26.0 F.Eduati
| malbec1 | Linux (Ubuntu 18.04.4 LTS) / x86_64 | OK | OK | OK | |||||||
| tokay1 | Windows Server 2012 R2 Standard / x64 | OK | OK | OK | [ OK ] | |||||||
| merida1 | OS X 10.11.6 El Capitan / x86_64 | OK | OK | OK | OK |
| Package: CNORfeeder |
| Version: 1.26.0 |
| Command: rm -rf CNORfeeder.buildbin-libdir && mkdir CNORfeeder.buildbin-libdir && C:\Users\biocbuild\bbs-3.10-bioc\R\bin\R.exe CMD INSTALL --merge-multiarch --build --library=CNORfeeder.buildbin-libdir CNORfeeder_1.26.0.tar.gz |
| StartedAt: 2020-04-15 08:26:54 -0400 (Wed, 15 Apr 2020) |
| EndedAt: 2020-04-15 08:27:19 -0400 (Wed, 15 Apr 2020) |
| EllapsedTime: 24.5 seconds |
| RetCode: 0 |
| Status: OK |
| PackageFile: CNORfeeder_1.26.0.zip |
| PackageFileSize: 726.3 KiB |
##############################################################################
##############################################################################
###
### Running command:
###
### rm -rf CNORfeeder.buildbin-libdir && mkdir CNORfeeder.buildbin-libdir && C:\Users\biocbuild\bbs-3.10-bioc\R\bin\R.exe CMD INSTALL --merge-multiarch --build --library=CNORfeeder.buildbin-libdir CNORfeeder_1.26.0.tar.gz
###
##############################################################################
##############################################################################
install for i386
* installing *source* package 'CNORfeeder' ...
** using staged installation
** R
** data
** inst
** byte-compile and prepare package for lazy loading
** help
*** installing help indices
converting help for package 'CNORfeeder'
finding HTML links ... done
Binference html
finding level-2 HTML links ... done
CNORfeeder-package html
MIinference html
PPINigraph html
UniprotIDdream html
gaBinaryT1W html
linksRanking html
makeBTables html
mapBTables2model html
mapDDN2model html
weighting html
** building package indices
** installing vignettes
** testing if installed package can be loaded from temporary location
** testing if installed package can be loaded from final location
** testing if installed package keeps a record of temporary installation path
install for x64
* installing *source* package 'CNORfeeder' ...
** testing if installed package can be loaded
* MD5 sums
packaged installation of 'CNORfeeder' as CNORfeeder_1.26.0.zip
* DONE (CNORfeeder)