| Back to Multiple platform build/check report for BioC 3.10 | 
  | 
This page was generated on 2020-04-15 12:21:02 -0400 (Wed, 15 Apr 2020).
| Package 319/1823 | Hostname | OS / Arch | INSTALL | BUILD | CHECK | BUILD BIN | ||||||
| CNORdt 1.28.0 A. MacNamara 
  | malbec1 | Linux (Ubuntu 18.04.4 LTS) / x86_64 | OK | OK | OK | |||||||
| tokay1 | Windows Server 2012 R2 Standard / x64 | OK | OK | OK | [ OK ] | |||||||
| merida1 | OS X 10.11.6 El Capitan / x86_64 | OK | OK | OK | OK | 
| Package: CNORdt | 
| Version: 1.28.0 | 
| Command: rm -rf CNORdt.buildbin-libdir && mkdir CNORdt.buildbin-libdir && C:\Users\biocbuild\bbs-3.10-bioc\R\bin\R.exe CMD INSTALL --merge-multiarch --build --library=CNORdt.buildbin-libdir CNORdt_1.28.0.tar.gz | 
| StartedAt: 2020-04-15 08:26:51 -0400 (Wed, 15 Apr 2020) | 
| EndedAt: 2020-04-15 08:27:11 -0400 (Wed, 15 Apr 2020) | 
| EllapsedTime: 20.8 seconds | 
| RetCode: 0 | 
| Status: OK | 
| PackageFile: CNORdt_1.28.0.zip | 
| PackageFileSize: 287.1 KiB | 
##############################################################################
##############################################################################
###
### Running command:
###
###   rm -rf CNORdt.buildbin-libdir && mkdir CNORdt.buildbin-libdir && C:\Users\biocbuild\bbs-3.10-bioc\R\bin\R.exe CMD INSTALL --merge-multiarch --build --library=CNORdt.buildbin-libdir CNORdt_1.28.0.tar.gz
###
##############################################################################
##############################################################################
install for i386
* installing *source* package 'CNORdt' ...
** using staged installation
** libs
C:/Rtools/mingw_32/bin/gcc  -I"C:/Users/BIOCBU~1/BBS-3~1.10-/R/include" -DNDEBUG     -I"C:/extsoft/include"     -O3 -Wall  -std=gnu99 -mtune=core2 -c simulatorDT.c -o simulatorDT.o
simulatorDT.c: In function 'simulatorDT':
simulatorDT.c:55:6: warning: unused variable 'nTimes' [-Wunused-variable]
  int nTimes = INTEGER(nTimes_in)[0];
      ^
simulatorDT.c:53:6: warning: unused variable 'nSignals' [-Wunused-variable]
  int nSignals = INTEGER(nSignals_in)[0];
      ^
C:/Rtools/mingw_32/bin/gcc -shared -s -static-libgcc -o CNORdt.dll tmp.def simulatorDT.o -LC:/extsoft/lib/i386 -LC:/extsoft/lib -LC:/Users/BIOCBU~1/BBS-3~1.10-/R/bin/i386 -lR
installing to C:/Users/biocbuild/bbs-3.10-bioc/meat/CNORdt.buildbin-libdir/00LOCK-CNORdt/00new/CNORdt/libs/i386
** R
** data
** inst
** byte-compile and prepare package for lazy loading
** help
*** installing help indices
  converting help for package 'CNORdt'
    finding HTML links ... done
    CNOlistPB                               html  
    computeScoreDT                          html  
    convert2array                           html  
    cutAndPlotResultsDT                     html  
    finding level-2 HTML links ... done
    gaBinaryDT                              html  
    getFitDT                                html  
    modelPB                                 html  
    simulatorDT                             html  
** building package indices
** installing vignettes
** testing if installed package can be loaded from temporary location
** testing if installed package can be loaded from final location
** testing if installed package keeps a record of temporary installation path
install for x64
* installing *source* package 'CNORdt' ...
** libs
C:/Rtools/mingw_64/bin/gcc  -I"C:/Users/BIOCBU~1/BBS-3~1.10-/R/include" -DNDEBUG     -I"C:/extsoft/include"     -O2 -Wall  -std=gnu99 -mtune=core2 -c simulatorDT.c -o simulatorDT.o
simulatorDT.c: In function 'simulatorDT':
simulatorDT.c:55:6: warning: unused variable 'nTimes' [-Wunused-variable]
  int nTimes = INTEGER(nTimes_in)[0];
      ^
simulatorDT.c:53:6: warning: unused variable 'nSignals' [-Wunused-variable]
  int nSignals = INTEGER(nSignals_in)[0];
      ^
C:/Rtools/mingw_64/bin/gcc -shared -s -static-libgcc -o CNORdt.dll tmp.def simulatorDT.o -LC:/extsoft/lib/x64 -LC:/extsoft/lib -LC:/Users/BIOCBU~1/BBS-3~1.10-/R/bin/x64 -lR
installing to C:/Users/biocbuild/bbs-3.10-bioc/meat/CNORdt.buildbin-libdir/CNORdt/libs/x64
** testing if installed package can be loaded
* MD5 sums
packaged installation of 'CNORdt' as CNORdt_1.28.0.zip
* DONE (CNORdt)