| Back to Multiple platform build/check report for BioC 3.10 | 
 | 
This page was generated on 2020-04-15 12:30:38 -0400 (Wed, 15 Apr 2020).
| Package 218/1823 | Hostname | OS / Arch | INSTALL | BUILD | CHECK | BUILD BIN | ||||||
| Lulu Chen 
 | malbec1 | Linux (Ubuntu 18.04.4 LTS) / x86_64 | OK | OK | WARNINGS |  | ||||||
| tokay1 | Windows Server 2012 R2 Standard / x64 | OK | OK | WARNINGS | [ OK ] |  | ||||||
| merida1 | OS X 10.11.6 El Capitan / x86_64 | OK | OK | WARNINGS | OK |  | 
| Package: CAMTHC | 
| Version: 1.4.0 | 
| Command: rm -rf CAMTHC.buildbin-libdir && mkdir CAMTHC.buildbin-libdir && C:\Users\biocbuild\bbs-3.10-bioc\R\bin\R.exe CMD INSTALL --merge-multiarch --build --library=CAMTHC.buildbin-libdir CAMTHC_1.4.0.tar.gz | 
| StartedAt: 2020-04-15 08:20:15 -0400 (Wed, 15 Apr 2020) | 
| EndedAt: 2020-04-15 08:20:40 -0400 (Wed, 15 Apr 2020) | 
| EllapsedTime: 24.9 seconds | 
| RetCode: 0 | 
| Status: OK | 
| PackageFile: CAMTHC_1.4.0.zip | 
| PackageFileSize: 2.861 MiB | 
##############################################################################
##############################################################################
###
### Running command:
###
###   rm -rf CAMTHC.buildbin-libdir && mkdir CAMTHC.buildbin-libdir && C:\Users\biocbuild\bbs-3.10-bioc\R\bin\R.exe CMD INSTALL --merge-multiarch --build --library=CAMTHC.buildbin-libdir CAMTHC_1.4.0.tar.gz
###
##############################################################################
##############################################################################
install for i386
* installing *source* package 'CAMTHC' ...
** using staged installation
** R
** data
** inst
** byte-compile and prepare package for lazy loading
** help
*** installing help indices
  converting help for package 'CAMTHC'
    finding HTML links ... done
    AS-accessor                             html  
    AfromMarkers                            html  
    CAM                                     html  
    CAMASObj-class                          html  
    CAMASest                                html  
    CAMMGCluster                            html  
    CAMMGObj-class                          html  
    CAMObj-class                            html  
    CAMPrep                                 html  
    CAMPrepObj-class                        html  
    CAMTHC-package                          html  
    MDL                                     html  
    MDLObj-class                            html  
    MGsforA                                 html  
    MGstatistic                             html  
    PCAmat                                  html  
    XWProj                                  html  
    cornerSort                              html  
    ratMix3                                 html  
    redoASest                               html  
    reselectMG                              html  
    sffsHull                                html  
    simplexplot                             html  
** building package indices
** installing vignettes
** testing if installed package can be loaded from temporary location
Warning: Package 'CAMTHC' is deprecated and will be removed from Bioconductor
  version 3.12 . Package renamed to debCAM
** testing if installed package can be loaded from final location
Warning: Package 'CAMTHC' is deprecated and will be removed from Bioconductor
  version 3.12 . Package renamed to debCAM
** testing if installed package keeps a record of temporary installation path
install for x64
* installing *source* package 'CAMTHC' ...
** testing if installed package can be loaded
Warning: Package 'CAMTHC' is deprecated and will be removed from Bioconductor
  version 3.12 . Package renamed to debCAM
* MD5 sums
packaged installation of 'CAMTHC' as CAMTHC_1.4.0.zip
* DONE (CAMTHC)