| Back to Multiple platform build/check report for BioC 3.10 | 
 | 
This page was generated on 2020-04-15 12:24:26 -0400 (Wed, 15 Apr 2020).
| Package 204/1823 | Hostname | OS / Arch | INSTALL | BUILD | CHECK | BUILD BIN | ||||||
| BubbleTree 2.16.0 Todd Creasy 
 | malbec1 | Linux (Ubuntu 18.04.4 LTS) / x86_64 | OK | OK | OK |  | ||||||
| tokay1 | Windows Server 2012 R2 Standard / x64 | [ OK ] | OK | OK | OK |  | ||||||
| merida1 | OS X 10.11.6 El Capitan / x86_64 | OK | OK | OK | OK |  | 
| Package: BubbleTree | 
| Version: 2.16.0 | 
| Command: C:\cygwin\bin\curl.exe -O https://malbec1.bioconductor.org/BBS/3.10/bioc/src/contrib/BubbleTree_2.16.0.tar.gz && rm -rf BubbleTree.buildbin-libdir && mkdir BubbleTree.buildbin-libdir && C:\Users\biocbuild\bbs-3.10-bioc\R\bin\R.exe CMD INSTALL --merge-multiarch --build --library=BubbleTree.buildbin-libdir BubbleTree_2.16.0.tar.gz && C:\Users\biocbuild\bbs-3.10-bioc\R\bin\R.exe CMD INSTALL BubbleTree_2.16.0.zip && rm BubbleTree_2.16.0.tar.gz BubbleTree_2.16.0.zip | 
| StartedAt: 2020-04-14 20:08:34 -0400 (Tue, 14 Apr 2020) | 
| EndedAt: 2020-04-14 20:11:05 -0400 (Tue, 14 Apr 2020) | 
| EllapsedTime: 151.4 seconds | 
| RetCode: 0 | 
| Status: OK | 
##############################################################################
##############################################################################
###
### Running command:
###
###   C:\cygwin\bin\curl.exe -O https://malbec1.bioconductor.org/BBS/3.10/bioc/src/contrib/BubbleTree_2.16.0.tar.gz && rm -rf BubbleTree.buildbin-libdir && mkdir BubbleTree.buildbin-libdir && C:\Users\biocbuild\bbs-3.10-bioc\R\bin\R.exe CMD INSTALL --merge-multiarch --build --library=BubbleTree.buildbin-libdir BubbleTree_2.16.0.tar.gz && C:\Users\biocbuild\bbs-3.10-bioc\R\bin\R.exe CMD INSTALL BubbleTree_2.16.0.zip && rm BubbleTree_2.16.0.tar.gz BubbleTree_2.16.0.zip
###
##############################################################################
##############################################################################
  % Total    % Received % Xferd  Average Speed   Time    Time     Time  Current
                                 Dload  Upload   Total   Spent    Left  Speed
  0     0    0     0    0     0      0      0 --:--:-- --:--:-- --:--:--     0
  2 23.7M    2  640k    0     0  3084k      0  0:00:07 --:--:--  0:00:07 3121k
100 23.7M  100 23.7M    0     0  25.9M      0 --:--:-- --:--:-- --:--:-- 26.0M
install for i386
* installing *source* package 'BubbleTree' ...
** using staged installation
It is recommended to use 'given' instead of 'middle'.
** R
** data
** inst
** byte-compile and prepare package for lazy loading
** help
*** installing help indices
  converting help for package 'BubbleTree'
    finding HTML links ... done
    Annotate                                html  
    BTreePlotter                            html  
    BTreePredictor                          html  
    RBD                                     html  
    RscoreTrack                             html  
    TrackPlotter                            html  
    all.somatic.lst                         html  
    allCNV.lst                              html  
    allCall.lst                             html  
    allHetero.lst                           html  
    allRBD.lst                              html  
    annoByGenesAndCyto                      html  
    bafTrack                                html  
    btcompare                               html  
    btpredict                               html  
    cancer.genes.minus2                     html  
    centromere.dat                          html  
    cnv.gr                                  html  
    cyto.gr                                 html  
    drawBTree                               html  
    drawBubbles                             html  
    drawFeatures                            html  
    gene.uni.clean.gr                       html  
    getTracks                               html  
    heteroLociTrack                         html  
    hg19.seqinfo                            html  
    info                                    html  
    loadRBD                                 html  
    makeRBD                                 html  
    mergeSnpCnv                             html  
    saveXLS                                 html  
    snp.gr                                  html  
    trackBTree                              html  
    vol.genes                               html  
    xyTrack                                 html  
** building package indices
** installing vignettes
** testing if installed package can be loaded from temporary location
** testing if installed package can be loaded from final location
** testing if installed package keeps a record of temporary installation path
install for x64
* installing *source* package 'BubbleTree' ...
** testing if installed package can be loaded
* MD5 sums
packaged installation of 'BubbleTree' as BubbleTree_2.16.0.zip
* DONE (BubbleTree)
* installing to library 'C:/Users/biocbuild/bbs-3.10-bioc/R/library'
package 'BubbleTree' successfully unpacked and MD5 sums checked