| Back to Multiple platform build/check report for BioC 3.10 |
|
This page was generated on 2020-04-15 12:31:07 -0400 (Wed, 15 Apr 2020).
| Package 157/1823 | Hostname | OS / Arch | INSTALL | BUILD | CHECK | BUILD BIN | ||||||
| BiocPkgTools 1.4.6 Sean Davis
| malbec1 | Linux (Ubuntu 18.04.4 LTS) / x86_64 | OK | OK | OK | |||||||
| tokay1 | Windows Server 2012 R2 Standard / x64 | OK | OK | OK | [ OK ] | |||||||
| merida1 | OS X 10.11.6 El Capitan / x86_64 | OK | OK | OK | OK |
| Package: BiocPkgTools |
| Version: 1.4.6 |
| Command: rm -rf BiocPkgTools.buildbin-libdir && mkdir BiocPkgTools.buildbin-libdir && C:\Users\biocbuild\bbs-3.10-bioc\R\bin\R.exe CMD INSTALL --merge-multiarch --build --library=BiocPkgTools.buildbin-libdir BiocPkgTools_1.4.6.tar.gz |
| StartedAt: 2020-04-15 08:16:53 -0400 (Wed, 15 Apr 2020) |
| EndedAt: 2020-04-15 08:17:30 -0400 (Wed, 15 Apr 2020) |
| EllapsedTime: 37.9 seconds |
| RetCode: 0 |
| Status: OK |
| PackageFile: BiocPkgTools_1.4.6.zip |
| PackageFileSize: 1.422 MiB |
##############################################################################
##############################################################################
###
### Running command:
###
### rm -rf BiocPkgTools.buildbin-libdir && mkdir BiocPkgTools.buildbin-libdir && C:\Users\biocbuild\bbs-3.10-bioc\R\bin\R.exe CMD INSTALL --merge-multiarch --build --library=BiocPkgTools.buildbin-libdir BiocPkgTools_1.4.6.tar.gz
###
##############################################################################
##############################################################################
install for i386
* installing *source* package 'BiocPkgTools' ...
** using staged installation
** R
** inst
** byte-compile and prepare package for lazy loading
** help
*** installing help indices
converting help for package 'BiocPkgTools'
finding HTML links ... done
BiocPkgTools-cache html
BiocPkgTools html
CRANstatus html
biocBuildEmail html
biocBuildReport html
biocDownloadStats html
biocExplore html
biocPkgList html
buildPkgDependencyDataFrame html
buildPkgDependencyIgraph html
dataciteXMLGenerate html
dot-getDepGain html
firstInBioc html
generateBiocPkgDOI html
getBiocVignette html
getPackageInfo html
get_bioc_data html
githubDetails html
githubURLParts html
inducedSubgraphByPkgs html
pkgCombDependencyGain html
pkgDepImports html
pkgDepMetrics html
problemPage html
subgraphByDegree html
** building package indices
** installing vignettes
** testing if installed package can be loaded from temporary location
** testing if installed package can be loaded from final location
** testing if installed package keeps a record of temporary installation path
install for x64
* installing *source* package 'BiocPkgTools' ...
** testing if installed package can be loaded
* MD5 sums
packaged installation of 'BiocPkgTools' as BiocPkgTools_1.4.6.zip
* DONE (BiocPkgTools)