| Back to Multiple platform build/check report for BioC 3.10 |
|
This page was generated on 2020-04-15 12:06:43 -0400 (Wed, 15 Apr 2020).
| Package 151/1823 | Hostname | OS / Arch | INSTALL | BUILD | CHECK | BUILD BIN | ||||||
| BiocGenerics 0.32.0 Bioconductor Package Maintainer
| malbec1 | Linux (Ubuntu 18.04.4 LTS) / x86_64 | OK | [ OK ] | WARNINGS | |||||||
| tokay1 | Windows Server 2012 R2 Standard / x64 | OK | OK | WARNINGS | OK | |||||||
| merida1 | OS X 10.11.6 El Capitan / x86_64 | OK | OK | WARNINGS | OK |
| Package: BiocGenerics |
| Version: 0.32.0 |
| Command: /home/biocbuild/bbs-3.10-bioc/R/bin/R CMD build --keep-empty-dirs --no-resave-data BiocGenerics |
| StartedAt: 2020-04-14 20:08:52 -0400 (Tue, 14 Apr 2020) |
| EndedAt: 2020-04-14 20:08:54 -0400 (Tue, 14 Apr 2020) |
| EllapsedTime: 1.5 seconds |
| RetCode: 0 |
| Status: OK |
| PackageFile: BiocGenerics_0.32.0.tar.gz |
| PackageFileSize: 45.72 KiB |
############################################################################## ############################################################################## ### ### Running command: ### ### /home/biocbuild/bbs-3.10-bioc/R/bin/R CMD build --keep-empty-dirs --no-resave-data BiocGenerics ### ############################################################################## ############################################################################## * checking for file ‘BiocGenerics/DESCRIPTION’ ... OK * preparing ‘BiocGenerics’: * checking DESCRIPTION meta-information ... OK * checking for LF line-endings in source and make files and shell scripts * checking for empty or unneeded directories * building ‘BiocGenerics_0.32.0.tar.gz’