| Back to Multiple platform build/check report for BioC 3.10 | 
 | 
This page was generated on 2020-04-15 12:28:09 -0400 (Wed, 15 Apr 2020).
| Package 150/1823 | Hostname | OS / Arch | INSTALL | BUILD | CHECK | BUILD BIN | ||||||
| BiocFileCache 1.10.2 Lori Shepherd 
 | malbec1 | Linux (Ubuntu 18.04.4 LTS) / x86_64 | OK | OK | OK |  | ||||||
| tokay1 | Windows Server 2012 R2 Standard / x64 | [ OK ] | OK | WARNINGS | OK |  | ||||||
| merida1 | OS X 10.11.6 El Capitan / x86_64 | OK | OK | OK | OK |  | 
| Package: BiocFileCache | 
| Version: 1.10.2 | 
| Command: C:\cygwin\bin\curl.exe -O https://malbec1.bioconductor.org/BBS/3.10/bioc/src/contrib/BiocFileCache_1.10.2.tar.gz && rm -rf BiocFileCache.buildbin-libdir && mkdir BiocFileCache.buildbin-libdir && C:\Users\biocbuild\bbs-3.10-bioc\R\bin\R.exe CMD INSTALL --merge-multiarch --build --library=BiocFileCache.buildbin-libdir BiocFileCache_1.10.2.tar.gz && C:\Users\biocbuild\bbs-3.10-bioc\R\bin\R.exe CMD INSTALL BiocFileCache_1.10.2.zip && rm BiocFileCache_1.10.2.tar.gz BiocFileCache_1.10.2.zip | 
| StartedAt: 2020-04-14 19:21:42 -0400 (Tue, 14 Apr 2020) | 
| EndedAt: 2020-04-14 19:22:03 -0400 (Tue, 14 Apr 2020) | 
| EllapsedTime: 20.8 seconds | 
| RetCode: 0 | 
| Status: OK | 
##############################################################################
##############################################################################
###
### Running command:
###
###   C:\cygwin\bin\curl.exe -O https://malbec1.bioconductor.org/BBS/3.10/bioc/src/contrib/BiocFileCache_1.10.2.tar.gz && rm -rf BiocFileCache.buildbin-libdir && mkdir BiocFileCache.buildbin-libdir && C:\Users\biocbuild\bbs-3.10-bioc\R\bin\R.exe CMD INSTALL --merge-multiarch --build --library=BiocFileCache.buildbin-libdir BiocFileCache_1.10.2.tar.gz && C:\Users\biocbuild\bbs-3.10-bioc\R\bin\R.exe CMD INSTALL BiocFileCache_1.10.2.zip && rm BiocFileCache_1.10.2.tar.gz BiocFileCache_1.10.2.zip
###
##############################################################################
##############################################################################
  % Total    % Received % Xferd  Average Speed   Time    Time     Time  Current
                                 Dload  Upload   Total   Spent    Left  Speed
  0     0    0     0    0     0      0      0 --:--:-- --:--:-- --:--:--     0
  0 46357    0     0    0     0      0      0 --:--:-- --:--:-- --:--:--     0
100 46357  100 46357    0     0   431k      0 --:--:-- --:--:-- --:--:--  443k
install for i386
* installing *source* package 'BiocFileCache' ...
** using staged installation
** R
** inst
** byte-compile and prepare package for lazy loading
** help
*** installing help indices
  converting help for package 'BiocFileCache'
    finding HTML links ... done
    BiocFileCache-class                     html  
    makeBiocFileCacheFromDataFrame          html  
    makeCachedActiveBinding                 html  
Rd warning: C:/Users/biocbuild/bbs-3.10-bioc/tmpdir/RtmpoDNbgI/R.INSTALL1d882f04792b/BiocFileCache/man/makeCachedActiveBinding.Rd:23: file link 'makeActiveBinding' in package 'base' does not exist and so has been treated as a topic
Rd warning: C:/Users/biocbuild/bbs-3.10-bioc/tmpdir/RtmpoDNbgI/R.INSTALL1d882f04792b/BiocFileCache/man/makeCachedActiveBinding.Rd:10: file link 'makeActiveBinding' in package 'base' does not exist and so has been treated as a topic
Rd warning: C:/Users/biocbuild/bbs-3.10-bioc/tmpdir/RtmpoDNbgI/R.INSTALL1d882f04792b/BiocFileCache/man/makeCachedActiveBinding.Rd:13: file link 'makeActiveBinding' in package 'base' does not exist and so has been treated as a topic
Rd warning: C:/Users/biocbuild/bbs-3.10-bioc/tmpdir/RtmpoDNbgI/R.INSTALL1d882f04792b/BiocFileCache/man/makeCachedActiveBinding.Rd:16: file link 'makeActiveBinding' in package 'base' does not exist and so has been treated as a topic
** building package indices
** installing vignettes
** testing if installed package can be loaded from temporary location
** testing if installed package can be loaded from final location
** testing if installed package keeps a record of temporary installation path
install for x64
* installing *source* package 'BiocFileCache' ...
** testing if installed package can be loaded
* MD5 sums
packaged installation of 'BiocFileCache' as BiocFileCache_1.10.2.zip
* DONE (BiocFileCache)
* installing to library 'C:/Users/biocbuild/bbs-3.10-bioc/R/library'
package 'BiocFileCache' successfully unpacked and MD5 sums checked