| Back to Multiple platform build/check report for BioC 3.10 |
|
This page was generated on 2020-04-15 12:16:35 -0400 (Wed, 15 Apr 2020).
| Package 145/1823 | Hostname | OS / Arch | INSTALL | BUILD | CHECK | BUILD BIN | ||||||
| Biobase 2.46.0 Bioconductor Package Maintainer
| malbec1 | Linux (Ubuntu 18.04.4 LTS) / x86_64 | OK | OK | WARNINGS | |||||||
| tokay1 | Windows Server 2012 R2 Standard / x64 | OK | OK | WARNINGS | [ OK ] | |||||||
| merida1 | OS X 10.11.6 El Capitan / x86_64 | OK | OK | WARNINGS | OK |
| Package: Biobase |
| Version: 2.46.0 |
| Command: rm -rf Biobase.buildbin-libdir && mkdir Biobase.buildbin-libdir && C:\Users\biocbuild\bbs-3.10-bioc\R\bin\R.exe CMD INSTALL --merge-multiarch --build --library=Biobase.buildbin-libdir Biobase_2.46.0.tar.gz |
| StartedAt: 2020-04-15 08:16:14 -0400 (Wed, 15 Apr 2020) |
| EndedAt: 2020-04-15 08:17:03 -0400 (Wed, 15 Apr 2020) |
| EllapsedTime: 48.6 seconds |
| RetCode: 0 |
| Status: OK |
| PackageFile: Biobase_2.46.0.zip |
| PackageFileSize: 2.309 MiB |
##############################################################################
##############################################################################
###
### Running command:
###
### rm -rf Biobase.buildbin-libdir && mkdir Biobase.buildbin-libdir && C:\Users\biocbuild\bbs-3.10-bioc\R\bin\R.exe CMD INSTALL --merge-multiarch --build --library=Biobase.buildbin-libdir Biobase_2.46.0.tar.gz
###
##############################################################################
##############################################################################
install for i386
* installing *source* package 'Biobase' ...
** using staged installation
** libs
C:/Rtools/mingw_32/bin/gcc -I"C:/Users/BIOCBU~1/BBS-3~1.10-/R/include" -DNDEBUG -I"C:/extsoft/include" -O3 -Wall -std=gnu99 -mtune=core2 -c Rinit.c -o Rinit.o
C:/Rtools/mingw_32/bin/gcc -I"C:/Users/BIOCBU~1/BBS-3~1.10-/R/include" -DNDEBUG -I"C:/extsoft/include" -O3 -Wall -std=gnu99 -mtune=core2 -c anyMissing.c -o anyMissing.o
C:/Rtools/mingw_32/bin/gcc -I"C:/Users/BIOCBU~1/BBS-3~1.10-/R/include" -DNDEBUG -I"C:/extsoft/include" -O3 -Wall -std=gnu99 -mtune=core2 -c envir.c -o envir.o
C:/Rtools/mingw_32/bin/gcc -I"C:/Users/BIOCBU~1/BBS-3~1.10-/R/include" -DNDEBUG -I"C:/extsoft/include" -O3 -Wall -std=gnu99 -mtune=core2 -c matchpt.c -o matchpt.o
C:/Rtools/mingw_32/bin/gcc -I"C:/Users/BIOCBU~1/BBS-3~1.10-/R/include" -DNDEBUG -I"C:/extsoft/include" -O3 -Wall -std=gnu99 -mtune=core2 -c rowMedians.c -o rowMedians.o
C:/Rtools/mingw_32/bin/gcc -I"C:/Users/BIOCBU~1/BBS-3~1.10-/R/include" -DNDEBUG -I"C:/extsoft/include" -O3 -Wall -std=gnu99 -mtune=core2 -c sublist_extract.c -o sublist_extract.o
C:/Rtools/mingw_32/bin/gcc -shared -s -static-libgcc -o Biobase.dll tmp.def Rinit.o anyMissing.o envir.o matchpt.o rowMedians.o sublist_extract.o -LC:/extsoft/lib/i386 -LC:/extsoft/lib -LC:/Users/BIOCBU~1/BBS-3~1.10-/R/bin/i386 -lR
installing to C:/Users/biocbuild/bbs-3.10-bioc/meat/Biobase.buildbin-libdir/00LOCK-Biobase/00new/Biobase/libs/i386
** R
** data
** inst
** byte-compile and prepare package for lazy loading
** help
*** installing help indices
converting help for package 'Biobase'
finding HTML links ... done
Aggregate html
Biobase-package html
ScalarObject-class html
abstract html
addVig2Menu html
annotatedDataFrameFrom-methods html
anyMissing html
assayData html
cache html
channel html
channelNames html
class.AnnotatedDataFrame html
finding level-2 HTML links ... done
class.AssayData html
class.ExpressionSet html
class.MIAME html
class.MIAxE html
class.MultiSet html
class.NChannelSet html
class.SnpSet html
class.Versioned html
class.VersionedBiobase html
class.Versions html
class.VersionsNull html
class.aggregator html
class.characterORmiame html
class.container html
class.eSet html
classVersion html
contents html
copyEnv html
copySubstitute html
createPackage html
data.aaMap html
data.geneData html
data.reporter html
data.sample.ExpressionSet html
data.sample.MultiSet html
defunct html
description html
dumpPackTxt html
esApply html
exprs html
featureData html
featureNames html
getPkgVigs html
internals html
isCurrent html
isUnique html
isVersioned html
lcSuffix html
listLen html
makeDataPackage html
matchpt html
multiassign html
note html
notes html
openPDF html
openVignette html
package.version html
phenoData html
protocolData html
read.AnnotatedDataFrame html
read.MIAME html
readExpressionSet html
reverseSplit html
rowMedians html
rowQ html
selectChannels html
selectSome html
snpCall html
storageMode html
strbreak html
subListExtract html
testBioCConnection html
updateObjectTo html
updateOldESet html
userQuery html
validMsg html
** building package indices
** installing vignettes
** testing if installed package can be loaded from temporary location
** testing if installed package can be loaded from final location
** testing if installed package keeps a record of temporary installation path
install for x64
* installing *source* package 'Biobase' ...
** libs
C:/Rtools/mingw_64/bin/gcc -I"C:/Users/BIOCBU~1/BBS-3~1.10-/R/include" -DNDEBUG -I"C:/extsoft/include" -O2 -Wall -std=gnu99 -mtune=core2 -c Rinit.c -o Rinit.o
C:/Rtools/mingw_64/bin/gcc -I"C:/Users/BIOCBU~1/BBS-3~1.10-/R/include" -DNDEBUG -I"C:/extsoft/include" -O2 -Wall -std=gnu99 -mtune=core2 -c anyMissing.c -o anyMissing.o
C:/Rtools/mingw_64/bin/gcc -I"C:/Users/BIOCBU~1/BBS-3~1.10-/R/include" -DNDEBUG -I"C:/extsoft/include" -O2 -Wall -std=gnu99 -mtune=core2 -c envir.c -o envir.o
C:/Rtools/mingw_64/bin/gcc -I"C:/Users/BIOCBU~1/BBS-3~1.10-/R/include" -DNDEBUG -I"C:/extsoft/include" -O2 -Wall -std=gnu99 -mtune=core2 -c matchpt.c -o matchpt.o
C:/Rtools/mingw_64/bin/gcc -I"C:/Users/BIOCBU~1/BBS-3~1.10-/R/include" -DNDEBUG -I"C:/extsoft/include" -O2 -Wall -std=gnu99 -mtune=core2 -c rowMedians.c -o rowMedians.o
C:/Rtools/mingw_64/bin/gcc -I"C:/Users/BIOCBU~1/BBS-3~1.10-/R/include" -DNDEBUG -I"C:/extsoft/include" -O2 -Wall -std=gnu99 -mtune=core2 -c sublist_extract.c -o sublist_extract.o
C:/Rtools/mingw_64/bin/gcc -shared -s -static-libgcc -o Biobase.dll tmp.def Rinit.o anyMissing.o envir.o matchpt.o rowMedians.o sublist_extract.o -LC:/extsoft/lib/x64 -LC:/extsoft/lib -LC:/Users/BIOCBU~1/BBS-3~1.10-/R/bin/x64 -lR
installing to C:/Users/biocbuild/bbs-3.10-bioc/meat/Biobase.buildbin-libdir/Biobase/libs/x64
** testing if installed package can be loaded
* MD5 sums
packaged installation of 'Biobase' as Biobase_2.46.0.zip
* DONE (Biobase)