| Back to Multiple platform build/check report for BioC 3.10 | 
 | 
This page was generated on 2020-04-15 12:30:23 -0400 (Wed, 15 Apr 2020).
| Package 172/1823 | Hostname | OS / Arch | INSTALL | BUILD | CHECK | BUILD BIN | ||||||
| BioNetStat 1.6.0 Vinicius Jardim 
 | malbec1 | Linux (Ubuntu 18.04.4 LTS) / x86_64 | OK | OK | OK |  | ||||||
| tokay1 | Windows Server 2012 R2 Standard / x64 | [ OK ] | OK | OK | OK |  | ||||||
| merida1 | OS X 10.11.6 El Capitan / x86_64 | OK | OK | OK | OK |  | 
| Package: BioNetStat | 
| Version: 1.6.0 | 
| Command: C:\cygwin\bin\curl.exe -O https://malbec1.bioconductor.org/BBS/3.10/bioc/src/contrib/BioNetStat_1.6.0.tar.gz && rm -rf BioNetStat.buildbin-libdir && mkdir BioNetStat.buildbin-libdir && C:\Users\biocbuild\bbs-3.10-bioc\R\bin\R.exe CMD INSTALL --merge-multiarch --build --library=BioNetStat.buildbin-libdir BioNetStat_1.6.0.tar.gz && C:\Users\biocbuild\bbs-3.10-bioc\R\bin\R.exe CMD INSTALL BioNetStat_1.6.0.zip && rm BioNetStat_1.6.0.tar.gz BioNetStat_1.6.0.zip | 
| StartedAt: 2020-04-14 19:29:03 -0400 (Tue, 14 Apr 2020) | 
| EndedAt: 2020-04-14 19:30:33 -0400 (Tue, 14 Apr 2020) | 
| EllapsedTime: 89.9 seconds | 
| RetCode: 0 | 
| Status: OK | 
##############################################################################
##############################################################################
###
### Running command:
###
###   C:\cygwin\bin\curl.exe -O https://malbec1.bioconductor.org/BBS/3.10/bioc/src/contrib/BioNetStat_1.6.0.tar.gz && rm -rf BioNetStat.buildbin-libdir && mkdir BioNetStat.buildbin-libdir && C:\Users\biocbuild\bbs-3.10-bioc\R\bin\R.exe CMD INSTALL --merge-multiarch --build --library=BioNetStat.buildbin-libdir BioNetStat_1.6.0.tar.gz && C:\Users\biocbuild\bbs-3.10-bioc\R\bin\R.exe CMD INSTALL BioNetStat_1.6.0.zip && rm BioNetStat_1.6.0.tar.gz BioNetStat_1.6.0.zip
###
##############################################################################
##############################################################################
  % Total    % Received % Xferd  Average Speed   Time    Time     Time  Current
                                 Dload  Upload   Total   Spent    Left  Speed
  0     0    0     0    0     0      0      0 --:--:-- --:--:-- --:--:--     0
100 2697k  100 2697k    0     0  25.4M      0 --:--:-- --:--:-- --:--:-- 26.3M
install for i386
* installing *source* package 'BioNetStat' ...
** using staged installation
** R
** data
** inst
** byte-compile and prepare package for lazy loading
** help
*** installing help indices
  converting help for package 'BioNetStat'
    finding HTML links ... done
    KLdegree                                html  
    KLspectrum                              html  
    adjacencyMatrix                         html  
    bnsDataTest                             html  
    centralityPathPlot                      html  
    diffNetAnalysis                         html  
    doLabels                                html  
    edgeTest                                html  
    labels                                  html  
    nDegreeDensities                        html  
    nSpectralDensities                      html  
    networkFeature                          html  
    networkTest                             html  
    nodeScores                              html  
    nodeTest                                html  
    pathPlot                                html  
    readGmtFile                             html  
    readVarFile                             html  
    runBioNetStat                           html  
    varFile                                 html  
** building package indices
** installing vignettes
   'BNS_tutorial_by_command_line.Rmd' using 'UTF-8' 
   'vignette.Rmd' using 'UTF-8' 
** testing if installed package can be loaded from temporary location
** testing if installed package can be loaded from final location
** testing if installed package keeps a record of temporary installation path
install for x64
* installing *source* package 'BioNetStat' ...
** testing if installed package can be loaded
* MD5 sums
packaged installation of 'BioNetStat' as BioNetStat_1.6.0.zip
* DONE (BioNetStat)
* installing to library 'C:/Users/biocbuild/bbs-3.10-bioc/R/library'
package 'BioNetStat' successfully unpacked and MD5 sums checked