| Back to Multiple platform build/check report for BioC 3.10 | 
 | 
This page was generated on 2020-04-15 12:17:44 -0400 (Wed, 15 Apr 2020).
| Package 169/1823 | Hostname | OS / Arch | INSTALL | BUILD | CHECK | BUILD BIN | ||||||
| BioMVCClass 1.54.0 Elizabeth Whalen 
 | malbec1 | Linux (Ubuntu 18.04.4 LTS) / x86_64 | OK | OK | OK |  | ||||||
| tokay1 | Windows Server 2012 R2 Standard / x64 | OK | OK | OK | [ OK ] |  | ||||||
| merida1 | OS X 10.11.6 El Capitan / x86_64 | OK | OK | OK | OK |  | 
| Package: BioMVCClass | 
| Version: 1.54.0 | 
| Command: rm -rf BioMVCClass.buildbin-libdir && mkdir BioMVCClass.buildbin-libdir && C:\Users\biocbuild\bbs-3.10-bioc\R\bin\R.exe CMD INSTALL --merge-multiarch --build --library=BioMVCClass.buildbin-libdir BioMVCClass_1.54.0.tar.gz | 
| StartedAt: 2020-04-15 08:17:30 -0400 (Wed, 15 Apr 2020) | 
| EndedAt: 2020-04-15 08:18:05 -0400 (Wed, 15 Apr 2020) | 
| EllapsedTime: 34.7 seconds | 
| RetCode: 0 | 
| Status: OK | 
| PackageFile: BioMVCClass_1.54.0.zip | 
| PackageFileSize: 194 KiB | 
##############################################################################
##############################################################################
###
### Running command:
###
###   rm -rf BioMVCClass.buildbin-libdir && mkdir BioMVCClass.buildbin-libdir && C:\Users\biocbuild\bbs-3.10-bioc\R\bin\R.exe CMD INSTALL --merge-multiarch --build --library=BioMVCClass.buildbin-libdir BioMVCClass_1.54.0.tar.gz
###
##############################################################################
##############################################################################
install for i386
* installing *source* package 'BioMVCClass' ...
** using staged installation
** R
** inst
** byte-compile and prepare package for lazy loading
** help
*** installing help indices
  converting help for package 'BioMVCClass'
    finding HTML links ... done
    GSE-class                               html  
    exprModel-class                         html  
    graphModel-class                        html  
    graphView-class                         html  
    gseModel-class                          html  
    heatmapView-class                       html  
** building package indices
** installing vignettes
** testing if installed package can be loaded from temporary location
** testing if installed package can be loaded from final location
** testing if installed package keeps a record of temporary installation path
install for x64
* installing *source* package 'BioMVCClass' ...
** testing if installed package can be loaded
* MD5 sums
packaged installation of 'BioMVCClass' as BioMVCClass_1.54.0.zip
* DONE (BioMVCClass)