| Back to Multiple platform build/check report for BioC 3.10 | 
 | 
This page was generated on 2020-04-15 12:31:50 -0400 (Wed, 15 Apr 2020).
| Package 168/1823 | Hostname | OS / Arch | INSTALL | BUILD | CHECK | BUILD BIN | ||||||
| BioMM 1.2.0 Junfang Chen 
 | malbec1 | Linux (Ubuntu 18.04.4 LTS) / x86_64 | OK | OK | OK |  | ||||||
| tokay1 | Windows Server 2012 R2 Standard / x64 | OK | OK | OK | [ OK ] |  | ||||||
| merida1 | OS X 10.11.6 El Capitan / x86_64 | OK | OK | OK | OK |  | 
| Package: BioMM | 
| Version: 1.2.0 | 
| Command: rm -rf BioMM.buildbin-libdir && mkdir BioMM.buildbin-libdir && C:\Users\biocbuild\bbs-3.10-bioc\R\bin\R.exe CMD INSTALL --merge-multiarch --build --library=BioMM.buildbin-libdir BioMM_1.2.0.tar.gz | 
| StartedAt: 2020-04-15 08:17:27 -0400 (Wed, 15 Apr 2020) | 
| EndedAt: 2020-04-15 08:18:02 -0400 (Wed, 15 Apr 2020) | 
| EllapsedTime: 34.5 seconds | 
| RetCode: 0 | 
| Status: OK | 
| PackageFile: BioMM_1.2.0.zip | 
| PackageFileSize: 4.547 MiB | 
##############################################################################
##############################################################################
###
### Running command:
###
###   rm -rf BioMM.buildbin-libdir && mkdir BioMM.buildbin-libdir && C:\Users\biocbuild\bbs-3.10-bioc\R\bin\R.exe CMD INSTALL --merge-multiarch --build --library=BioMM.buildbin-libdir BioMM_1.2.0.tar.gz
###
##############################################################################
##############################################################################
install for i386
* installing *source* package 'BioMM' ...
** using staged installation
** R
** inst
** byte-compile and prepare package for lazy loading
** help
*** installing help indices
  converting help for package 'BioMM'
    finding HTML links ... done
    BioMM                                   html  
    BioMMstage2pred                         html  
    baseGLMnet                              html  
    baseModel                               html  
    baseRandForest                          html  
    baseSVM                                 html  
    cirPlot4pathway                         html  
    classifiACC                             html  
    getDataByFilter                         html  
    getMetrics                              html  
    omics2pathlist                          html  
    plotRankedFeature                       html  
    plotVarExplained                        html  
    predByBS                                html  
    predByCV                                html  
    predByFS                                html  
    reconBySupervised                       html  
    reconByUnsupervised                     html  
** building package indices
** installing vignettes
** testing if installed package can be loaded from temporary location
** testing if installed package can be loaded from final location
** testing if installed package keeps a record of temporary installation path
install for x64
* installing *source* package 'BioMM' ...
** testing if installed package can be loaded
* MD5 sums
packaged installation of 'BioMM' as BioMM_1.2.0.zip
* DONE (BioMM)