| Back to Multiple platform build/check report for BioC 3.10 |
|
This page was generated on 2020-04-15 12:22:40 -0400 (Wed, 15 Apr 2020).
| Package 113/1823 | Hostname | OS / Arch | INSTALL | BUILD | CHECK | BUILD BIN | ||||||
| Basic4Cseq 1.22.0 Carolin Walter
| malbec1 | Linux (Ubuntu 18.04.4 LTS) / x86_64 | OK | OK | OK | |||||||
| tokay1 | Windows Server 2012 R2 Standard / x64 | [ OK ] | OK | OK | OK | |||||||
| merida1 | OS X 10.11.6 El Capitan / x86_64 | OK | OK | OK | OK |
| Package: Basic4Cseq |
| Version: 1.22.0 |
| Command: C:\cygwin\bin\curl.exe -O https://malbec1.bioconductor.org/BBS/3.10/bioc/src/contrib/Basic4Cseq_1.22.0.tar.gz && rm -rf Basic4Cseq.buildbin-libdir && mkdir Basic4Cseq.buildbin-libdir && C:\Users\biocbuild\bbs-3.10-bioc\R\bin\R.exe CMD INSTALL --merge-multiarch --build --library=Basic4Cseq.buildbin-libdir Basic4Cseq_1.22.0.tar.gz && C:\Users\biocbuild\bbs-3.10-bioc\R\bin\R.exe CMD INSTALL Basic4Cseq_1.22.0.zip && rm Basic4Cseq_1.22.0.tar.gz Basic4Cseq_1.22.0.zip |
| StartedAt: 2020-04-14 19:55:05 -0400 (Tue, 14 Apr 2020) |
| EndedAt: 2020-04-14 19:56:15 -0400 (Tue, 14 Apr 2020) |
| EllapsedTime: 70.1 seconds |
| RetCode: 0 |
| Status: OK |
##############################################################################
##############################################################################
###
### Running command:
###
### C:\cygwin\bin\curl.exe -O https://malbec1.bioconductor.org/BBS/3.10/bioc/src/contrib/Basic4Cseq_1.22.0.tar.gz && rm -rf Basic4Cseq.buildbin-libdir && mkdir Basic4Cseq.buildbin-libdir && C:\Users\biocbuild\bbs-3.10-bioc\R\bin\R.exe CMD INSTALL --merge-multiarch --build --library=Basic4Cseq.buildbin-libdir Basic4Cseq_1.22.0.tar.gz && C:\Users\biocbuild\bbs-3.10-bioc\R\bin\R.exe CMD INSTALL Basic4Cseq_1.22.0.zip && rm Basic4Cseq_1.22.0.tar.gz Basic4Cseq_1.22.0.zip
###
##############################################################################
##############################################################################
% Total % Received % Xferd Average Speed Time Time Time Current
Dload Upload Total Spent Left Speed
0 0 0 0 0 0 0 0 --:--:-- --:--:-- --:--:-- 0
0 0 0 0 0 0 0 0 --:--:-- --:--:-- --:--:-- 0
100 218k 100 218k 0 0 786k 0 --:--:-- --:--:-- --:--:-- 794k
install for i386
* installing *source* package 'Basic4Cseq' ...
** using staged installation
** R
** data
** inst
** byte-compile and prepare package for lazy loading
** help
*** installing help indices
converting help for package 'Basic4Cseq'
finding HTML links ... done
Data4Cseq-class html
Data4Cseq html
checkRestrictionEnzymeSequence html
chooseNearCisFragments html
createVirtualFragmentLibrary html
drawDigestionFragmentHistogram html
drawHeatmap html
exportVisualizationFragmentData html
getReadDistribution html
giveEnzymeSequence html
importVisualizationFragmentData html
liverData html
liverDataRaw html
normalizeFragmentData html
plotTransInteractions html
prepare4CseqData html
printBEDFragmentLibrary html
printWigFile html
readPointsOfInterestFile html
readsToFragments html
simulateDigestion html
visualizeViewpoint html
** building package indices
** installing vignettes
** testing if installed package can be loaded from temporary location
** testing if installed package can be loaded from final location
** testing if installed package keeps a record of temporary installation path
install for x64
* installing *source* package 'Basic4Cseq' ...
** testing if installed package can be loaded
* MD5 sums
packaged installation of 'Basic4Cseq' as Basic4Cseq_1.22.0.zip
* DONE (Basic4Cseq)
* installing to library 'C:/Users/biocbuild/bbs-3.10-bioc/R/library'
package 'Basic4Cseq' successfully unpacked and MD5 sums checked