| Back to Multiple platform build/check report for BioC 3.10 |
|
This page was generated on 2020-04-15 12:27:16 -0400 (Wed, 15 Apr 2020).
| Package 101/1823 | Hostname | OS / Arch | INSTALL | BUILD | CHECK | BUILD BIN | ||||||
| BaalChIP 1.12.0 Ines de Santiago
| malbec1 | Linux (Ubuntu 18.04.4 LTS) / x86_64 | OK | OK | WARNINGS | |||||||
| tokay1 | Windows Server 2012 R2 Standard / x64 | OK | OK | WARNINGS | [ OK ] | |||||||
| merida1 | OS X 10.11.6 El Capitan / x86_64 | OK | OK | WARNINGS | OK |
| Package: BaalChIP |
| Version: 1.12.0 |
| Command: rm -rf BaalChIP.buildbin-libdir && mkdir BaalChIP.buildbin-libdir && C:\Users\biocbuild\bbs-3.10-bioc\R\bin\R.exe CMD INSTALL --merge-multiarch --build --library=BaalChIP.buildbin-libdir BaalChIP_1.12.0.tar.gz |
| StartedAt: 2020-04-15 08:13:22 -0400 (Wed, 15 Apr 2020) |
| EndedAt: 2020-04-15 08:16:03 -0400 (Wed, 15 Apr 2020) |
| EllapsedTime: 160.5 seconds |
| RetCode: 0 |
| Status: OK |
| PackageFile: BaalChIP_1.12.0.zip |
| PackageFileSize: 106.5 MiB |
##############################################################################
##############################################################################
###
### Running command:
###
### rm -rf BaalChIP.buildbin-libdir && mkdir BaalChIP.buildbin-libdir && C:\Users\biocbuild\bbs-3.10-bioc\R\bin\R.exe CMD INSTALL --merge-multiarch --build --library=BaalChIP.buildbin-libdir BaalChIP_1.12.0.tar.gz
###
##############################################################################
##############################################################################
install for i386
* installing *source* package 'BaalChIP' ...
** using staged installation
** R
** data
*** moving datasets to lazyload DB
** inst
** byte-compile and prepare package for lazy loading
** help
*** installing help indices
converting help for package 'BaalChIP'
finding HTML links ... done
BaalChIP html
BaalChIP.get html
BaalChIP.report html
BaalChIP.run html
BaalObject html
ENCODEexample html
FAIREexample html
QCfilter html
UniqueMappability50bp_hg19 html
adjustmentBaalPlot html
alleleCounts html
blacklist_hg19 html
filter1allele html
filterIntbias html
getASB html
mergePerGroup html
pickrell2011cov1_hg19 html
plotQC html
plotSimul html
summaryASB html
summaryQC html
** building package indices
** installing vignettes
** testing if installed package can be loaded from temporary location
** testing if installed package can be loaded from final location
** testing if installed package keeps a record of temporary installation path
install for x64
* installing *source* package 'BaalChIP' ...
** testing if installed package can be loaded
* MD5 sums
packaged installation of 'BaalChIP' as BaalChIP_1.12.0.zip
* DONE (BaalChIP)