CHECK report for AnnotationHubData on malbec1
This page was generated on 2020-04-15 12:10:26 -0400 (Wed, 15 Apr 2020).
| AnnotationHubData 1.16.0 Bioconductor Package Maintainer
 
 
| Snapshot Date: 2020-04-14 16:46:13 -0400 (Tue, 14 Apr 2020) |  | URL: https://git.bioconductor.org/packages/AnnotationHubData |  | Branch: RELEASE_3_10 |  | Last Commit: 67b7ca8 |  | Last Changed Date: 2019-10-29 13:09:25 -0400 (Tue, 29 Oct 2019) |  | malbec1 | Linux (Ubuntu 18.04.4 LTS) / x86_64 | OK | OK | [ WARNINGS ] |  |  | 
| tokay1 | Windows Server 2012 R2 Standard / x64 | OK | OK | WARNINGS | OK |  | 
| merida1 | OS X 10.11.6 El Capitan / x86_64 | OK | OK | WARNINGS | OK |  | 
Summary
Command output
Installation output
AnnotationHubData.Rcheck/00install.out
Tests output
AnnotationHubData.Rcheck/tests/AnnotationHubData_unit_tests.Rout
R version 3.6.3 (2020-02-29) -- "Holding the Windsock"
Copyright (C) 2020 The R Foundation for Statistical Computing
Platform: x86_64-pc-linux-gnu (64-bit)
R is free software and comes with ABSOLUTELY NO WARRANTY.
You are welcome to redistribute it under certain conditions.
Type 'license()' or 'licence()' for distribution details.
R is a collaborative project with many contributors.
Type 'contributors()' for more information and
'citation()' on how to cite R or R packages in publications.
Type 'demo()' for some demos, 'help()' for on-line help, or
'help.start()' for an HTML browser interface to help.
Type 'q()' to quit R.
> BiocGenerics:::testPackage("AnnotationHubData")
Attaching package: 'BiocGenerics'
The following objects are masked from 'package:parallel':
    clusterApply, clusterApplyLB, clusterCall, clusterEvalQ,
    clusterExport, clusterMap, parApply, parCapply, parLapply,
    parLapplyLB, parRapply, parSapply, parSapplyLB
The following objects are masked from 'package:stats':
    IQR, mad, sd, var, xtabs
The following objects are masked from 'package:base':
    Filter, Find, Map, Position, Reduce, anyDuplicated, append,
    as.data.frame, basename, cbind, colnames, dirname, do.call,
    duplicated, eval, evalq, get, grep, grepl, intersect, is.unsorted,
    lapply, mapply, match, mget, order, paste, pmax, pmax.int, pmin,
    pmin.int, rank, rbind, rownames, sapply, setdiff, sort, table,
    tapply, union, unique, unsplit, which, which.max, which.min
Attaching package: 'S4Vectors'
The following object is masked from 'package:base':
    expand.grid
INFO [2020-04-15 03:22:07] Preparer Class: ChEAImportPreparer
complete!
INFO [2020-04-15 03:22:08] Preparer Class: EncodeImportPreparer
getting file info: wgEncodeAffyRnaChipFiltTransfragsGm12878CellTotal.broadPeak.gz
getting file info: wgEncodeAffyRnaChipFiltTransfragsGm12878CytosolLongnonpolya.broadPeak.gz
getting file info: wgEncodeAffyRnaChipFiltTransfragsGm12878CytosolLongpolya.broadPeak.gz
getting file info: wgEncodeAffyRnaChipFiltTransfragsGm12878NucleolusTotal.broadPeak.gz
getting file info: wgEncodeAffyRnaChipFiltTransfragsGm12878NucleusLongnonpolya.broadPeak.gz
complete!
INFO [2020-04-15 03:22:10] Preparer Class: EnsemblGtfImportPreparer
ftp://ftp.ensembl.org/pub/release-84/gtf/ailuropoda_melanoleuca/
ftp://ftp.ensembl.org/pub/release-84/gtf/anas_platyrhynchos/
complete!
INFO [2020-04-15 03:22:23] Preparer Class: EnsemblTwoBitPreparer
complete!
INFO [2020-04-15 03:22:35] Preparer Class: EpigenomeRoadMapPreparer
trying URL 'https://egg2.wustl.edu/roadmap/data/byDataType/dnamethylation/RRBS/FractionalMethylation_bigwig/'
downloaded 13 KB
trying URL 'https://egg2.wustl.edu/roadmap/data/byDataType/dnamethylation/WGBS/FractionalMethylation_bigwig/'
downloaded 10 KB
trying URL 'https://egg2.wustl.edu/roadmap/data/byDataType/dnamethylation/mCRF/FractionalMethylation_bigwig/'
Content type 'text/html;charset=UTF-8' length 5015 bytes
==================================================
downloaded 5015 bytes
getting file info: E002_RRBS_FractionalMethylation.bigwig
getting file info: E003_RRBS_FractionalMethylation.bigwig
complete!
INFO [2020-04-15 03:22:38] Preparer Class: GencodeFastaImportPreparer
getting file info: gencode.v23.chr_patch_hapl_scaff.transcripts.fa.gz
getting file info: gencode.v23.lncRNA_transcripts.fa.gz
complete!
INFO [2020-04-15 03:22:42] Preparer Class: GencodeGffImportPreparer
getting file info: gencode.v31.2wayconspseudos.gff3.gz
getting file info: gencode.v31.annotation.gff3.gz
complete!
INFO [2020-04-15 03:22:46] Preparer Class: Grasp2ImportPreparer
complete!
INFO [2020-04-15 03:22:46] Preparer Class: NCBIImportPreparer
looking up value for: 3708
looking up value for: 3818
looking up value for: 90675
looking up value for: 3469
looking up value for: 7957
looking up value for: 4232
Processing 8 files.
complete!
INFO [2020-04-15 03:22:57] Preparer Class: RefNetImportPreparer
complete!
INFO [2020-04-15 03:22:58] Preparer Class: dbSNPVCFPreparer
ftp://ftp.ncbi.nlm.nih.gov/pub/clinvar/vcf_GRCh37/archive_1.0/2016/
complete!
Found invalid DispatchClass.
[1] "somethingNotThere"
For currently available DispatchClass run
    'AnnotationHub::DispatchClassList()'
Found invalid DispatchClass.
[1] "somethingNotThere"
For currently available DispatchClass run
    'AnnotationHub::DispatchClassList()'
Loading valid species information.
ftp://ftp1.nci.nih.gov/pub/PID/BioPAX/
ftp://ftp1.nci.nih.gov/pub/PID/BioPAX/
ftp://ftp1.nci.nih.gov/pub/PID/BioPAX/
RUNIT TEST PROTOCOL -- Wed Apr 15 03:24:26 2020 
*********************************************** 
Number of test functions: 26 
Number of errors: 0 
Number of failures: 0 
 
1 Test Suite : 
AnnotationHubData RUnit Tests - 26 test functions, 0 errors, 0 failures
Number of test functions: 26 
Number of errors: 0 
Number of failures: 0 
Warning message:
In value[[3L]](cond) : chea-background.zip: Service Unavailable
> 
> proc.time()
   user  system elapsed 
153.380   1.508 187.233 
 
Example timings
AnnotationHubData.Rcheck/AnnotationHubData-Ex.timings