| Back to Multiple platform build/check report for BioC 3.10 | 
 | 
This page was generated on 2020-04-15 12:33:25 -0400 (Wed, 15 Apr 2020).
| Package 46/1823 | Hostname | OS / Arch | INSTALL | BUILD | CHECK | BUILD BIN | ||||||
| ALPS 1.0.0 Venu Thatikonda 
 | malbec1 | Linux (Ubuntu 18.04.4 LTS) / x86_64 | OK | OK | OK |  | ||||||
| tokay1 | Windows Server 2012 R2 Standard / x64 | OK | OK | OK | [ OK ] |  | ||||||
| merida1 | OS X 10.11.6 El Capitan / x86_64 | OK | OK | OK | OK |  | 
| Package: ALPS | 
| Version: 1.0.0 | 
| Command: rm -rf ALPS.buildbin-libdir && mkdir ALPS.buildbin-libdir && C:\Users\biocbuild\bbs-3.10-bioc\R\bin\R.exe --arch x64 CMD INSTALL --no-multiarch --build --library=ALPS.buildbin-libdir ALPS_1.0.0.tar.gz | 
| StartedAt: 2020-04-15 08:09:21 -0400 (Wed, 15 Apr 2020) | 
| EndedAt: 2020-04-15 08:10:09 -0400 (Wed, 15 Apr 2020) | 
| EllapsedTime: 47.9 seconds | 
| RetCode: 0 | 
| Status: OK | 
| PackageFile: ALPS_1.0.0.zip | 
| PackageFileSize: 2.094 MiB | 
##############################################################################
##############################################################################
###
### Running command:
###
###   rm -rf ALPS.buildbin-libdir && mkdir ALPS.buildbin-libdir && C:\Users\biocbuild\bbs-3.10-bioc\R\bin\R.exe --arch x64 CMD INSTALL --no-multiarch --build --library=ALPS.buildbin-libdir ALPS_1.0.0.tar.gz
###
##############################################################################
##############################################################################
* installing *source* package 'ALPS' ...
** using staged installation
** R
** inst
** byte-compile and prepare package for lazy loading
** help
*** installing help indices
  converting help for package 'ALPS'
    finding HTML links ... done
    ALPS-package                            html  
    get_genomic_annotations                 html  
    get_variable_regions                    html  
    merge_GR                                html  
    multiBigwig_summary                     html  
    pipe                                    html  
    plot_browser_tracks                     html  
    plot_correlation                        html  
    plot_enrichments                        html  
    plot_genomic_annotations                html  
    plot_motif_logo                         html  
    process_homer                           html  
    process_jaspar                          html  
    process_meme                            html  
    process_pfm                             html  
    process_transfac                        html  
** building package indices
** installing vignettes
** testing if installed package can be loaded from temporary location
** testing if installed package can be loaded from final location
** testing if installed package keeps a record of temporary installation path
* MD5 sums
packaged installation of 'ALPS' as ALPS_1.0.0.zip
* DONE (ALPS)