| Back to Multiple platform build/check report for BioC 3.10 | 
 | 
This page was generated on 2020-04-15 12:25:21 -0400 (Wed, 15 Apr 2020).
| Package 7/1823 | Hostname | OS / Arch | INSTALL | BUILD | CHECK | BUILD BIN | ||||||
| ABAEnrichment 1.16.0 Steffi Grote 
 | malbec1 | Linux (Ubuntu 18.04.4 LTS) / x86_64 | OK | OK | OK |  | ||||||
| tokay1 | Windows Server 2012 R2 Standard / x64 | OK | OK | OK | [ OK ] |  | ||||||
| merida1 | OS X 10.11.6 El Capitan / x86_64 | OK | OK | OK | OK |  | 
| Package: ABAEnrichment | 
| Version: 1.16.0 | 
| Command: rm -rf ABAEnrichment.buildbin-libdir && mkdir ABAEnrichment.buildbin-libdir && C:\Users\biocbuild\bbs-3.10-bioc\R\bin\R.exe CMD INSTALL --merge-multiarch --build --library=ABAEnrichment.buildbin-libdir ABAEnrichment_1.16.0.tar.gz | 
| StartedAt: 2020-04-15 08:07:22 -0400 (Wed, 15 Apr 2020) | 
| EndedAt: 2020-04-15 08:10:02 -0400 (Wed, 15 Apr 2020) | 
| EllapsedTime: 159.9 seconds | 
| RetCode: 0 | 
| Status: OK | 
| PackageFile: ABAEnrichment_1.16.0.zip | 
| PackageFileSize: 3.586 MiB | 
##############################################################################
##############################################################################
###
### Running command:
###
###   rm -rf ABAEnrichment.buildbin-libdir && mkdir ABAEnrichment.buildbin-libdir && C:\Users\biocbuild\bbs-3.10-bioc\R\bin\R.exe CMD INSTALL --merge-multiarch --build --library=ABAEnrichment.buildbin-libdir ABAEnrichment_1.16.0.tar.gz
###
##############################################################################
##############################################################################
install for i386
* installing *source* package 'ABAEnrichment' ...
** using staged installation
** libs
C:/Rtools/mingw_32/bin/g++ -std=gnu++11  -I"C:/Users/BIOCBU~1/BBS-3~1.10-/R/include" -DNDEBUG  -I"C:/Users/biocbuild/bbs-3.10-bioc/R/library/Rcpp/include"   -I"C:/extsoft/include"     -O2 -Wall  -mtune=core2 -c RcppExports.cpp -o RcppExports.o
C:/Rtools/mingw_32/bin/g++ -std=gnu++11  -I"C:/Users/BIOCBU~1/BBS-3~1.10-/R/include" -DNDEBUG  -I"C:/Users/biocbuild/bbs-3.10-bioc/R/library/Rcpp/include"   -I"C:/extsoft/include"     -O2 -Wall  -mtune=core2 -c unlock_environment.cc -o unlock_environment.o
C:/Rtools/mingw_32/bin/g++ -std=gnu++11 -shared -s -static-libgcc -o ABAEnrichment.dll tmp.def RcppExports.o unlock_environment.o -LC:/extsoft/lib/i386 -LC:/extsoft/lib -LC:/Users/BIOCBU~1/BBS-3~1.10-/R/bin/i386 -lR
installing to C:/Users/biocbuild/bbs-3.10-bioc/meat/ABAEnrichment.buildbin-libdir/00LOCK-ABAEnrichment/00new/ABAEnrichment/libs/i386
** R
** inst
** byte-compile and prepare package for lazy loading
** help
*** installing help indices
  converting help for package 'ABAEnrichment'
    finding HTML links ... done
    aba_enrich                              html  
    get_annotated_genes                     html  
    get_expression                          html  
    get_id                                  html  
    get_name                                html  
    get_sampled_substructures               html  
    get_superstructures                     html  
    plot_expression                         html  
    finding level-2 HTML links ... done
** building package indices
** installing vignettes
** testing if installed package can be loaded from temporary location
** testing if installed package can be loaded from final location
** testing if installed package keeps a record of temporary installation path
install for x64
* installing *source* package 'ABAEnrichment' ...
** libs
C:/Rtools/mingw_64/bin/g++ -std=gnu++11  -I"C:/Users/BIOCBU~1/BBS-3~1.10-/R/include" -DNDEBUG  -I"C:/Users/biocbuild/bbs-3.10-bioc/R/library/Rcpp/include"   -I"C:/extsoft/include"     -O2 -Wall  -mtune=core2 -c RcppExports.cpp -o RcppExports.o
C:/Rtools/mingw_64/bin/g++ -std=gnu++11  -I"C:/Users/BIOCBU~1/BBS-3~1.10-/R/include" -DNDEBUG  -I"C:/Users/biocbuild/bbs-3.10-bioc/R/library/Rcpp/include"   -I"C:/extsoft/include"     -O2 -Wall  -mtune=core2 -c unlock_environment.cc -o unlock_environment.o
C:/Rtools/mingw_64/bin/g++ -std=gnu++11 -shared -s -static-libgcc -o ABAEnrichment.dll tmp.def RcppExports.o unlock_environment.o -LC:/extsoft/lib/x64 -LC:/extsoft/lib -LC:/Users/BIOCBU~1/BBS-3~1.10-/R/bin/x64 -lR
installing to C:/Users/biocbuild/bbs-3.10-bioc/meat/ABAEnrichment.buildbin-libdir/ABAEnrichment/libs/x64
** testing if installed package can be loaded
* MD5 sums
packaged installation of 'ABAEnrichment' as ABAEnrichment_1.16.0.zip
* DONE (ABAEnrichment)