RNAinteractMAPK 1.6.0 Bernd Fischer
 | Snapshot Date: 2015-10-07 07:15:35 -0700 (Wed, 07 Oct 2015) |  | URL: https://hedgehog.fhcrc.org/bioc-data/branches/RELEASE_3_1/experiment/pkgs/RNAinteractMAPK |  | Last Changed Rev: 3279 / Revision: 3442 |  | Last Changed Date: 2015-04-16 13:16:53 -0700 (Thu, 16 Apr 2015) |  
  | zin2  | Linux (Ubuntu 14.04.2 LTS) / x86_64  | [ OK ] |  OK  |  OK  |  |   | 
| moscato2  | Windows Server 2008 R2 Enterprise SP1 (64-bit) / x64  |  OK  |  OK  |  OK  |  OK  |  | 
| petty  | Mac OS X Snow Leopard (10.6.8) / x86_64  |  OK  |  OK  |  OK  |  OK  |  | 
##############################################################################
##############################################################################
###
### Running command:
###
###   /home/biocbuild/bbs-3.1-bioc/R/bin/R CMD INSTALL RNAinteractMAPK
###
##############################################################################
##############################################################################
* installing to library ‘/home/biocbuild/bbs-3.1-bioc/R/library’
* installing *source* package ‘RNAinteractMAPK’ ...
** R
** data
** inst
** preparing package for lazy loading
Creating a generic function for ‘nchar’ from package ‘base’ in package ‘S4Vectors’
** help
*** installing help indices
** building package indices
** installing vignettes
** testing if installed package can be loaded
Creating a generic function for ‘nchar’ from package ‘base’ in package ‘S4Vectors’
* DONE (RNAinteractMAPK)