flowFP 1.26.0 Herb Holyst
 | Snapshot Date: 2015-10-08 17:20:21 -0700 (Thu, 08 Oct 2015) |  | URL: https://hedgehog.fhcrc.org/bioconductor/branches/RELEASE_3_1/madman/Rpacks/flowFP |  | Last Changed Rev: 102591 / Revision: 109384 |  | Last Changed Date: 2015-04-16 12:42:01 -0700 (Thu, 16 Apr 2015) |  
  | zin2  | Linux (Ubuntu 14.04.2 LTS) / x86_64  | [ OK ] |  OK  |  OK  |  |   | 
| moscato2  | Windows Server 2008 R2 Enterprise SP1 (64-bit) / x64  |  OK  |  OK  |  OK  |  OK  |   | 
| petty  | Mac OS X Snow Leopard (10.6.8) / x86_64  |  OK  |  OK  |  OK  |  OK  |   | 
| morelia  | Mac OS X Mavericks (10.9.5) / x86_64  |  OK  |  OK  |  OK  |  OK  |   | 
##############################################################################
##############################################################################
###
### Running command:
###
###   /home/biocbuild/bbs-3.1-bioc/R/bin/R CMD INSTALL flowFP
###
##############################################################################
##############################################################################
* installing to library ‘/home/biocbuild/bbs-3.1-bioc/R/library’
* installing *source* package ‘flowFP’ ...
configure: creating ./config.status
config.status: creating src/Makevars
** libs
gcc -std=gnu99 -I/home/biocbuild/bbs-3.1-bioc/R/include -DNDEBUG  -I/usr/local/include    -fpic  -g -O2  -Wall -c flowFP.c -o flowFP.o
gcc -std=gnu99 -I/home/biocbuild/bbs-3.1-bioc/R/include -DNDEBUG  -I/usr/local/include    -fpic  -g -O2  -Wall -c init.c -o init.o
gcc -std=gnu99 -I/home/biocbuild/bbs-3.1-bioc/R/include -DNDEBUG  -I/usr/local/include    -fpic  -g -O2  -Wall -c split_utils.c -o split_utils.o
gcc -std=gnu99 -shared -L/home/biocbuild/bbs-3.1-bioc/R/lib -L/usr/local/lib -o flowFP.so flowFP.o init.o split_utils.o -L/home/biocbuild/bbs-3.1-bioc/R/lib -lR
installing to /home/biocbuild/bbs-3.1-bioc/R/library/flowFP/libs
** R
** data
** inst
** preparing package for lazy loading
Creating a generic function for ‘append’ from package ‘base’ in package ‘flowFP’
** help
*** installing help indices
** building package indices
** installing vignettes
** testing if installed package can be loaded
* DONE (flowFP)