| beadarray 2.18.0 Mark Dunning
 
 | Snapshot Date: 2015-10-08 17:20:21 -0700 (Thu, 08 Oct 2015) |  | URL: https://hedgehog.fhcrc.org/bioconductor/branches/RELEASE_3_1/madman/Rpacks/beadarray |  | Last Changed Rev: 102591 / Revision: 109384 |  | Last Changed Date: 2015-04-16 12:42:01 -0700 (Thu, 16 Apr 2015) | 
 | zin2 | Linux (Ubuntu 14.04.2 LTS) / x86_64 | OK | OK | OK |  |  | 
| moscato2 | Windows Server 2008 R2 Enterprise SP1 (64-bit) / x64 | OK | OK | OK | [ OK ] |  | 
| petty | Mac OS X Snow Leopard (10.6.8) / x86_64 | OK | OK | OK | OK |  | 
| morelia | Mac OS X Mavericks (10.9.5) / x86_64 | OK | OK | OK | OK |  | 
##############################################################################
##############################################################################
###
### Running command:
###
###   cd beadarray.buildbin-libdir/beadarray && zip -r ../../beadarray_2.18.0.zip . & cd ../..
###
##############################################################################
##############################################################################
  adding: CITATION (188 bytes security) (deflated 43%)
  adding: data/ (256 bytes security) (stored 0%)
  adding: data/datalist (188 bytes security) (deflated 4%)
  adding: data/Rdata.rdb (188 bytes security) (deflated 0%)
  adding: data/Rdata.rds (188 bytes security) (stored 0%)
  adding: data/Rdata.rdx (188 bytes security) (stored 0%)
  adding: DESCRIPTION (188 bytes security) (deflated 39%)
  adding: doc/ (256 bytes security) (stored 0%)
  adding: doc/beadarray.pdf (188 bytes security) (deflated 8%)
  adding: doc/beadarray.rnw (188 bytes security) (deflated 58%)
  adding: doc/beadlevel.pdf (188 bytes security) (deflated 11%)
  adding: doc/beadlevel.rnw (188 bytes security) (deflated 63%)
  adding: doc/beadsummary.pdf (188 bytes security) (deflated 15%)
  adding: doc/beadsummary.rnw (188 bytes security) (deflated 64%)
  adding: doc/ImageProcessing.pdf (188 bytes security) (deflated 9%)
  adding: doc/ImageProcessing.rnw (188 bytes security) (deflated 60%)
  adding: doc/index.html (188 bytes security) (deflated 76%)
  adding: help/ (256 bytes security) (stored 0%)
  adding: help/aliases.rds (188 bytes security) (stored 0%)
  adding: help/AnIndex (188 bytes security) (deflated 79%)
  adding: help/beadarray.rdb (188 bytes security) (deflated 1%)
  adding: help/beadarray.rdx (188 bytes security) (stored 0%)
  adding: help/paths.rds (188 bytes security) (stored 0%)
  adding: html/ (256 bytes security) (stored 0%)
  adding: html/00Index.html (188 bytes security) (deflated 85%)
  adding: html/R.css (188 bytes security) (deflated 75%)
  adding: INDEX (188 bytes security) (deflated 67%)
  adding: libs/ (256 bytes security) (stored 0%)
  adding: libs/i386/ (256 bytes security) (stored 0%)
  adding: libs/i386/beadarray.dll (188 bytes security) (deflated 51%)
  adding: libs/x64/ (256 bytes security) (stored 0%)
  adding: libs/x64/beadarray.dll (188 bytes security) (deflated 50%)
  adding: MD5 (188 bytes security) (deflated 45%)
  adding: Meta/ (256 bytes security) (stored 0%)
  adding: Meta/data.rds (188 bytes security) (stored 0%)
  adding: Meta/hsearch.rds (188 bytes security) (stored 0%)
  adding: Meta/links.rds (188 bytes security) (stored 0%)
  adding: Meta/nsInfo.rds (188 bytes security) (stored 0%)
  adding: Meta/package.rds (188 bytes security) (stored 0%)
  adding: Meta/Rd.rds (188 bytes security) (stored 0%)
  adding: Meta/vignette.rds (188 bytes security) (stored 0%)
  adding: NAMESPACE (188 bytes security) (deflated 57%)
  adding: NEWS (188 bytes security) (deflated 64%)
  adding: R/ (256 bytes security) (stored 0%)
  adding: R/beadarray (188 bytes security) (deflated 41%)
  adding: R/beadarray.rdb (188 bytes security) (deflated 28%)
  adding: R/beadarray.rdx (188 bytes security) (deflated 1%)