| SeqArray 1.8.0 Xiuwen Zheng
 
 | Snapshot Date: 2015-10-08 17:20:21 -0700 (Thu, 08 Oct 2015) |  | URL: https://hedgehog.fhcrc.org/bioconductor/branches/RELEASE_3_1/madman/Rpacks/SeqArray |  | Last Changed Rev: 102591 / Revision: 109384 |  | Last Changed Date: 2015-04-16 12:42:01 -0700 (Thu, 16 Apr 2015) | 
 | zin2 | Linux (Ubuntu 14.04.2 LTS) / x86_64 | OK | OK | OK |  |  | 
| moscato2 | Windows Server 2008 R2 Enterprise SP1 (64-bit) / x64 | OK | OK | OK | OK |  | 
| petty | Mac OS X Snow Leopard (10.6.8) / x86_64 | OK | OK | OK | OK |  | 
| morelia | Mac OS X Mavericks (10.9.5) / x86_64 | [ OK ] | OK | OK | OK |  | 
##############################################################################
##############################################################################
###
### Running command:
###
###   /Library/Frameworks/R.framework/Versions/Current/Resources/bin/R CMD INSTALL SeqArray
###
##############################################################################
##############################################################################
* installing to library ‘/Library/Frameworks/R.framework/Versions/3.2/Resources/library’
* installing *source* package ‘SeqArray’ ...
** libs
clang++ -I/Library/Frameworks/R.framework/Resources/include -DNDEBUG -I. -DUSING_R -I/usr/local/include -I/usr/local/include/freetype2 -I/opt/X11/include -I"/Library/Frameworks/R.framework/Versions/3.2/Resources/library/gdsfmt/include"   -fPIC  -Wall -mtune=core2 -g -O2  -c ConvGDS2VCF.cpp -o ConvGDS2VCF.o
clang++ -I/Library/Frameworks/R.framework/Resources/include -DNDEBUG -I. -DUSING_R -I/usr/local/include -I/usr/local/include/freetype2 -I/opt/X11/include -I"/Library/Frameworks/R.framework/Versions/3.2/Resources/library/gdsfmt/include"   -fPIC  -Wall -mtune=core2 -g -O2  -c ConvVCF2GDS.cpp -o ConvVCF2GDS.o
clang -I/Library/Frameworks/R.framework/Resources/include -DNDEBUG -I. -DUSING_R -I/usr/local/include -I/usr/local/include/freetype2 -I/opt/X11/include -I"/Library/Frameworks/R.framework/Versions/3.2/Resources/library/gdsfmt/include"   -fPIC  -Wall -mtune=core2 -g -O2  -c R_SeqArray.c -o R_SeqArray.o
clang++ -I/Library/Frameworks/R.framework/Resources/include -DNDEBUG -I. -DUSING_R -I/usr/local/include -I/usr/local/include/freetype2 -I/opt/X11/include -I"/Library/Frameworks/R.framework/Versions/3.2/Resources/library/gdsfmt/include"   -fPIC  -Wall -mtune=core2 -g -O2  -c ReadByVariant.cpp -o ReadByVariant.o
clang++ -I/Library/Frameworks/R.framework/Resources/include -DNDEBUG -I. -DUSING_R -I/usr/local/include -I/usr/local/include/freetype2 -I/opt/X11/include -I"/Library/Frameworks/R.framework/Versions/3.2/Resources/library/gdsfmt/include"   -fPIC  -Wall -mtune=core2 -g -O2  -c SeqArray.cpp -o SeqArray.o
clang++ -dynamiclib -Wl,-headerpad_max_install_names -undefined dynamic_lookup -single_module -multiply_defined suppress -L/Library/Frameworks/R.framework/Resources/lib -L/usr/local/lib -o SeqArray.so ConvGDS2VCF.o ConvVCF2GDS.o R_SeqArray.o ReadByVariant.o SeqArray.o -F/Library/Frameworks/R.framework/.. -framework R -Wl,-framework -Wl,CoreFoundation
installing to /Library/Frameworks/R.framework/Versions/3.2/Resources/library/SeqArray/libs
** R
** inst
** preparing package for lazy loading
Creating a generic function for ‘nchar’ from package ‘base’ in package ‘S4Vectors’
** help
*** installing help indices
** building package indices
** installing vignettes
   ‘SeqArrayTutorial.Rnw’ 
** testing if installed package can be loaded
Creating a generic function for ‘nchar’ from package ‘base’ in package ‘S4Vectors’
* DONE (SeqArray)