| RCytoscape 1.18.0 Paul Shannon
 
 | Snapshot Date: 2015-10-08 17:20:21 -0700 (Thu, 08 Oct 2015) |  | URL: https://hedgehog.fhcrc.org/bioconductor/branches/RELEASE_3_1/madman/Rpacks/RCytoscape |  | Last Changed Rev: 102591 / Revision: 109384 |  | Last Changed Date: 2015-04-16 12:42:01 -0700 (Thu, 16 Apr 2015) | 
 | zin2 | Linux (Ubuntu 14.04.2 LTS) / x86_64 | OK | OK | OK |  |  | 
| moscato2 | Windows Server 2008 R2 Enterprise SP1 (64-bit) / x64 | OK | OK | OK | [ OK ] |  | 
| petty | Mac OS X Snow Leopard (10.6.8) / x86_64 | OK | OK | OK | OK |  | 
| morelia | Mac OS X Mavericks (10.9.5) / x86_64 | OK | OK | OK | OK |  | 
##############################################################################
##############################################################################
###
### Running command:
###
###   cd RCytoscape.buildbin-libdir/RCytoscape && zip -r ../../RCytoscape_1.18.0.zip . & cd ../..
###
##############################################################################
##############################################################################
  adding: CITATION (188 bytes security) (deflated 53%)
  adding: cytoscape.vmoptions (188 bytes security) (deflated 4%)
  adding: CytoscapeRPC.conf (188 bytes security) (deflated 20%)
  adding: DESCRIPTION (188 bytes security) (deflated 33%)
  adding: doc/ (256 bytes security) (stored 0%)
  adding: doc/index.html (188 bytes security) (deflated 59%)
  adding: doc/RCytoscape.pdf (188 bytes security) (deflated 11%)
  adding: doc/RCytoscape.R (188 bytes security) (deflated 78%)
  adding: doc/RCytoscape.Rnw (188 bytes security) (deflated 63%)
  adding: help/ (256 bytes security) (stored 0%)
  adding: help/aliases.rds (188 bytes security) (stored 0%)
  adding: help/AnIndex (188 bytes security) (deflated 88%)
  adding: help/paths.rds (188 bytes security) (stored 0%)
  adding: help/RCytoscape.rdb (188 bytes security) (deflated 3%)
  adding: help/RCytoscape.rdx (188 bytes security) (deflated 1%)
  adding: html/ (256 bytes security) (stored 0%)
  adding: html/00Index.html (188 bytes security) (deflated 91%)
  adding: html/R.css (188 bytes security) (deflated 75%)
  adding: INDEX (188 bytes security) (deflated 83%)
  adding: makefile (188 bytes security) (deflated 60%)
  adding: MD5 (188 bytes security) (deflated 42%)
  adding: Meta/ (256 bytes security) (stored 0%)
  adding: Meta/hsearch.rds (188 bytes security) (deflated 6%)
  adding: Meta/links.rds (188 bytes security) (stored 0%)
  adding: Meta/nsInfo.rds (188 bytes security) (stored 0%)
  adding: Meta/package.rds (188 bytes security) (stored 0%)
  adding: Meta/Rd.rds (188 bytes security) (stored 0%)
  adding: Meta/vignette.rds (188 bytes security) (stored 0%)
  adding: misc/ (256 bytes security) (stored 0%)
  adding: misc/adjacencyMatrixExplorations.R (188 bytes security) (deflated 79%)
  adding: misc/bugs.py (188 bytes security) (deflated 62%)
  adding: misc/cytoscapeRPC-examples.pl (188 bytes security) (deflated 71%)
  adding: misc/many_networks.py (188 bytes security) (deflated 57%)
  adding: misc/undirected-graphAM-script.R (188 bytes security) (deflated 58%)
  adding: NAMESPACE (188 bytes security) (deflated 75%)
  adding: NEWS (188 bytes security) (deflated 45%)
  adding: R/ (256 bytes security) (stored 0%)
  adding: R/RCytoscape (188 bytes security) (deflated 41%)
  adding: R/RCytoscape.rdb (188 bytes security) (deflated 49%)
  adding: R/RCytoscape.rdx (188 bytes security) (deflated 6%)
  adding: randomAdjacencyMatrixGraphTest.R (188 bytes security) (deflated 75%)
  adding: sweave.R (188 bytes security) (stored 0%)
  adding: test.R (188 bytes security) (deflated 72%)
  adding: toHtml.R (188 bytes security) (deflated 67%)
  adding: unitTests/ (256 bytes security) (stored 0%)
  adding: unitTests/test_cytoscape.R (188 bytes security) (deflated 84%)
  adding: vanillaTest.R (188 bytes security) (deflated 18%)