| PICS 2.12.0 Renan Sauteraud
 
 | Snapshot Date: 2015-10-08 17:20:21 -0700 (Thu, 08 Oct 2015) |  | URL: https://hedgehog.fhcrc.org/bioconductor/branches/RELEASE_3_1/madman/Rpacks/PICS |  | Last Changed Rev: 102591 / Revision: 109384 |  | Last Changed Date: 2015-04-16 12:42:01 -0700 (Thu, 16 Apr 2015) | 
 | zin2 | Linux (Ubuntu 14.04.2 LTS) / x86_64 | OK | OK | OK |  |  | 
| moscato2 | Windows Server 2008 R2 Enterprise SP1 (64-bit) / x64 | OK | OK | OK | [ OK ] |  | 
| petty | Mac OS X Snow Leopard (10.6.8) / x86_64 | OK | OK | OK | OK |  | 
| morelia | Mac OS X Mavericks (10.9.5) / x86_64 | OK | OK | OK | OK |  | 
##############################################################################
##############################################################################
###
### Running command:
###
###   cd PICS.buildbin-libdir/PICS && zip -r ../../PICS_2.12.0.zip . & cd ../..
###
##############################################################################
##############################################################################
  adding: CITATION (188 bytes security) (deflated 52%)
  adding: DESCRIPTION (188 bytes security) (deflated 36%)
  adding: doc/ (256 bytes security) (stored 0%)
  adding: doc/index.html (188 bytes security) (deflated 57%)
  adding: doc/PICS.pdf (188 bytes security) (deflated 11%)
  adding: doc/PICS.R (188 bytes security) (deflated 76%)
  adding: doc/PICS.Rnw (188 bytes security) (deflated 61%)
  adding: extdata/ (256 bytes security) (stored 0%)
  adding: extdata/Input_tags_chr21_sort.bed (188 bytes security) (deflated 76%)
  adding: extdata/mapProfileShort (188 bytes security) (deflated 73%)
  adding: extdata/Treatment_tags_chr21_sort.bed (188 bytes security) (deflated 75%)
  adding: help/ (256 bytes security) (stored 0%)
  adding: help/aliases.rds (188 bytes security) (stored 0%)
  adding: help/AnIndex (188 bytes security) (deflated 83%)
  adding: help/paths.rds (188 bytes security) (stored 0%)
  adding: help/PICS.rdb (188 bytes security) (deflated 1%)
  adding: help/PICS.rdx (188 bytes security) (stored 0%)
  adding: html/ (256 bytes security) (stored 0%)
  adding: html/00Index.html (188 bytes security) (deflated 88%)
  adding: html/R.css (188 bytes security) (deflated 75%)
  adding: INDEX (188 bytes security) (deflated 65%)
  adding: libs/ (256 bytes security) (stored 0%)
  adding: libs/i386/ (256 bytes security) (stored 0%)
  adding: libs/i386/PICS.dll (188 bytes security) (deflated 66%)
  adding: libs/x64/ (256 bytes security) (stored 0%)
  adding: libs/x64/PICS.dll (188 bytes security) (deflated 65%)
  adding: MD5 (188 bytes security) (deflated 42%)
  adding: Meta/ (256 bytes security) (stored 0%)
  adding: Meta/hsearch.rds (188 bytes security) (stored 0%)
  adding: Meta/links.rds (188 bytes security) (stored 0%)
  adding: Meta/nsInfo.rds (188 bytes security) (stored 0%)
  adding: Meta/package.rds (188 bytes security) (stored 0%)
  adding: Meta/Rd.rds (188 bytes security) (stored 0%)
  adding: Meta/vignette.rds (188 bytes security) (stored 0%)
  adding: NAMESPACE (188 bytes security) (deflated 56%)
  adding: NEWS (188 bytes security) (deflated 46%)
  adding: R/ (256 bytes security) (stored 0%)
  adding: R/PICS (188 bytes security) (deflated 41%)
  adding: R/PICS.rdb (188 bytes security) (deflated 37%)
  adding: R/PICS.rdx (188 bytes security) (deflated 1%)