GenomicFeatures 1.20.6 Bioconductor Package Maintainer
 | Snapshot Date: 2015-10-08 17:20:21 -0700 (Thu, 08 Oct 2015) |  | URL: https://hedgehog.fhcrc.org/bioconductor/branches/RELEASE_3_1/madman/Rpacks/GenomicFeatures |  | Last Changed Rev: 108989 / Revision: 109384 |  | Last Changed Date: 2015-09-29 23:24:53 -0700 (Tue, 29 Sep 2015) |  
  | zin2  | Linux (Ubuntu 14.04.2 LTS) / x86_64  |  OK  |  OK  |  ERROR  |  |  | 
| moscato2  | Windows Server 2008 R2 Enterprise SP1 (64-bit) / x64  |  OK  |  OK  |  ERROR  |  OK  |  | 
| petty  | Mac OS X Snow Leopard (10.6.8) / x86_64  |  OK  |  OK  |  ERROR  |  OK  |  | 
| morelia  | Mac OS X Mavericks (10.9.5) / x86_64  |  OK  | [ OK ] |  ERROR  |  OK  |  | 
##############################################################################
##############################################################################
###
### Running command:
###
###   /Library/Frameworks/R.framework/Versions/Current/Resources/bin/R CMD build --keep-empty-dirs --no-resave-data GenomicFeatures
###
##############################################################################
##############################################################################
* checking for file ‘GenomicFeatures/DESCRIPTION’ ... OK
* preparing ‘GenomicFeatures’:
* checking DESCRIPTION meta-information ... OK
* installing the package to build vignettes
* creating vignettes ... OK
* checking for LF line-endings in source and make files
* checking for empty or unneeded directories
WARNING: directory ‘GenomicFeatures/inst/txdb-template/inst/extdata’ is empty
* building ‘GenomicFeatures_1.20.6.tar.gz’