GenomicFeatures 1.20.6 Bioconductor Package Maintainer
| Snapshot Date: 2015-10-08 17:20:21 -0700 (Thu, 08 Oct 2015) | | URL: https://hedgehog.fhcrc.org/bioconductor/branches/RELEASE_3_1/madman/Rpacks/GenomicFeatures | | Last Changed Rev: 108989 / Revision: 109384 | | Last Changed Date: 2015-09-29 23:24:53 -0700 (Tue, 29 Sep 2015) |
| zin2 | Linux (Ubuntu 14.04.2 LTS) / x86_64 | OK | OK | ERROR | | |
| moscato2 | Windows Server 2008 R2 Enterprise SP1 (64-bit) / x64 | OK | OK | ERROR | OK | |
| petty | Mac OS X Snow Leopard (10.6.8) / x86_64 | OK | OK | ERROR | OK | |
| morelia | Mac OS X Mavericks (10.9.5) / x86_64 | OK | OK | ERROR | OK | |