| BrowserViz 1.0.1 Paul Shannon
 
 | Snapshot Date: 2015-10-08 17:20:21 -0700 (Thu, 08 Oct 2015) |  | URL: https://hedgehog.fhcrc.org/bioconductor/branches/RELEASE_3_1/madman/Rpacks/BrowserViz |  | Last Changed Rev: 105025 / Revision: 109384 |  | Last Changed Date: 2015-06-16 11:26:54 -0700 (Tue, 16 Jun 2015) | 
 | zin2 | Linux (Ubuntu 14.04.2 LTS) / x86_64 | OK | OK | OK |  |  | 
| moscato2 | Windows Server 2008 R2 Enterprise SP1 (64-bit) / x64 | OK | OK | ERROR | [ OK ] |  | 
| petty | Mac OS X Snow Leopard (10.6.8) / x86_64 | OK | OK | ERROR | OK |  | 
| morelia | Mac OS X Mavericks (10.9.5) / x86_64 | OK | OK | ERROR | OK |  | 
##############################################################################
##############################################################################
###
### Running command:
###
###   cd BrowserViz.buildbin-libdir/BrowserViz && zip -r ../../BrowserViz_1.0.1.zip . & cd ../..
###
##############################################################################
##############################################################################
  adding: DESCRIPTION (188 bytes security) (deflated 37%)
  adding: doc/ (256 bytes security) (stored 0%)
  adding: doc/BrowserViz.pdf (188 bytes security) (deflated 12%)
  adding: doc/BrowserViz.R (188 bytes security) (deflated 58%)
  adding: doc/BrowserViz.Rnw (188 bytes security) (deflated 60%)
  adding: doc/index.html (188 bytes security) (deflated 59%)
  adding: help/ (256 bytes security) (stored 0%)
  adding: help/aliases.rds (188 bytes security) (stored 0%)
  adding: help/AnIndex (188 bytes security) (deflated 86%)
  adding: help/BrowserViz.rdb (188 bytes security) (deflated 0%)
  adding: help/BrowserViz.rdx (188 bytes security) (stored 0%)
  adding: help/paths.rds (188 bytes security) (stored 0%)
  adding: html/ (256 bytes security) (stored 0%)
  adding: html/00Index.html (188 bytes security) (deflated 90%)
  adding: html/R.css (188 bytes security) (deflated 75%)
  adding: INDEX (188 bytes security) (deflated 40%)
  adding: index.html (188 bytes security) (deflated 91%)
  adding: MD5 (188 bytes security) (deflated 44%)
  adding: Meta/ (256 bytes security) (stored 0%)
  adding: Meta/hsearch.rds (188 bytes security) (stored 0%)
  adding: Meta/links.rds (188 bytes security) (stored 0%)
  adding: Meta/nsInfo.rds (188 bytes security) (stored 0%)
  adding: Meta/package.rds (188 bytes security) (stored 0%)
  adding: Meta/Rd.rds (188 bytes security) (stored 0%)
  adding: Meta/vignette.rds (188 bytes security) (stored 0%)
  adding: NAMESPACE (188 bytes security) (deflated 51%)
  adding: NEWS (188 bytes security) (deflated 45%)
  adding: R/ (256 bytes security) (stored 0%)
  adding: R/BrowserViz (188 bytes security) (deflated 41%)
  adding: R/BrowserViz.rdb (188 bytes security) (deflated 32%)
  adding: R/BrowserViz.rdx (188 bytes security) (stored 0%)
  adding: scripts/ (256 bytes security) (stored 0%)
  adding: scripts/BrowserViz.js (188 bytes security) (deflated 77%)
  adding: scripts/html/ (256 bytes security) (stored 0%)
  adding: scripts/html/browserViz.html (188 bytes security) (deflated 75%)
  adding: scripts/viz.html (188 bytes security) (deflated 74%)
  adding: unitTests/ (256 bytes security) (stored 0%)
  adding: unitTests/test_BrowserViz.R (188 bytes security) (deflated 75%)