| AnnotationHub 2.0.4 Bioconductor Package Maintainer
 
 | Snapshot Date: 2015-10-08 17:20:21 -0700 (Thu, 08 Oct 2015) |  | URL: https://hedgehog.fhcrc.org/bioconductor/branches/RELEASE_3_1/madman/Rpacks/AnnotationHub |  | Last Changed Rev: 108412 / Revision: 109384 |  | Last Changed Date: 2015-09-10 06:19:54 -0700 (Thu, 10 Sep 2015) | 
 | zin2 | Linux (Ubuntu 14.04.2 LTS) / x86_64 | OK | OK | WARNINGS |  |  | 
| moscato2 | Windows Server 2008 R2 Enterprise SP1 (64-bit) / x64 | OK | OK | WARNINGS | OK |  | 
| petty | Mac OS X Snow Leopard (10.6.8) / x86_64 | OK | OK | WARNINGS | OK |  | 
| morelia | Mac OS X Mavericks (10.9.5) / x86_64 | OK | OK | WARNINGS | [ OK ] |  | 
##############################################################################
##############################################################################
###
### Running command:
###
###   rm -rf AnnotationHub.buildbin-libdir && mkdir AnnotationHub.buildbin-libdir && /Users/biocbuild/BBS/utils/build-universal.sh AnnotationHub_2.0.4.tar.gz /Library/Frameworks/R.framework/Versions/Current/Resources/bin/R AnnotationHub.buildbin-libdir
###
##############################################################################
##############################################################################
>>>>>>> 
>>>>>>> INSTALLATION WITH 'R CMD INSTALL --preclean --no-multiarch --library=AnnotationHub.buildbin-libdir AnnotationHub_2.0.4.tar.gz'
>>>>>>> 
* installing *source* package ‘AnnotationHub’ ...
** R
** inst
** preparing package for lazy loading
Creating a generic function for ‘nchar’ from package ‘base’ in package ‘S4Vectors’
** help
*** installing help indices
** building package indices
** installing vignettes
** testing if installed package can be loaded
Creating a generic function for ‘nchar’ from package ‘base’ in package ‘S4Vectors’
* DONE (AnnotationHub)