##############################################################################
##############################################################################
###
### Running command:
###
### rm -rf ceuhm3.buildbin-libdir && mkdir ceuhm3.buildbin-libdir && /Users/biocbuild/BBS/utils/build-universal.sh ceuhm3_0.3.1.tar.gz /Library/Frameworks/R.framework/Versions/Current/Resources/bin/R ceuhm3.buildbin-libdir
###
##############################################################################
##############################################################################
>>>>>>>
>>>>>>> INSTALLATION WITH 'R CMD INSTALL --preclean --no-multiarch --library=ceuhm3.buildbin-libdir ceuhm3_0.3.1.tar.gz'
>>>>>>>
* installing *source* package ‘ceuhm3’ ...
** R
** data
** inst
** preparing package for lazy loading
** help
*** installing help indices
** building package indices
** testing if installed package can be loaded
* DONE (ceuhm3)