| GGdata 1.3.1 VJ Carey
 
 | Snapshot Date: 2015-04-08 06:15:26 -0700 (Wed, 08 Apr 2015) |  | URL: https://hedgehog.fhcrc.org/bioc-data/branches/RELEASE_3_0/experiment/pkgs/GGdata |  | Last Changed Rev: 3075 / Revision: 3266 |  | Last Changed Date: 2014-10-13 14:52:40 -0700 (Mon, 13 Oct 2014) | 
 | zin1 | Linux (Ubuntu 12.04.4 LTS) / x86_64 | [ OK ] | OK | OK |  | 
| moscato1 | Windows Server 2008 R2 Enterprise SP1 (64-bit) / x64 | OK | OK | OK | OK | 
| perceval | Mac OS X Snow Leopard (10.6.8) / x86_64 | OK | OK | OK | OK | 
##############################################################################
##############################################################################
###
### Running command:
###
###   /home/biocbuild/bbs-3.0-bioc/R/bin/R CMD INSTALL GGdata
###
##############################################################################
##############################################################################
* installing to library ‘/home/biocbuild/bbs-3.0-bioc/R/library’
* installing *source* package ‘GGdata’ ...
** R
** data
** inst
** preparing package for lazy loading
** help
*** installing help indices
** building package indices
** testing if installed package can be loaded
* DONE (GGdata)