| sigaR 1.10.0 Wessel N. van Wieringen
 
 | Snapshot Date: 2015-04-09 16:20:12 -0700 (Thu, 09 Apr 2015) |  | URL: https://hedgehog.fhcrc.org/bioconductor/branches/RELEASE_3_0/madman/Rpacks/sigaR |  | Last Changed Rev: 95439 / Revision: 102249 |  | Last Changed Date: 2014-10-13 14:38:33 -0700 (Mon, 13 Oct 2014) | 
 | zin1 | Linux (Ubuntu 12.04.4 LTS) / x86_64 | OK | OK | OK |  | 
| moscato1 | Windows Server 2008 R2 Enterprise SP1 (64-bit) / x64 | OK | OK | OK | [ OK ] | 
| perceval | Mac OS X Snow Leopard (10.6.8) / x86_64 | OK | OK | OK | OK | 
| oaxaca | Mac OS X Mavericks (10.9.5) / x86_64 | OK | OK | OK | OK | 
##############################################################################
##############################################################################
###
### Running command:
###
###   cd sigaR.buildbin-libdir/sigaR && zip -r ../../sigaR_1.10.0.zip . & cd ../..
###
##############################################################################
##############################################################################
  adding: CITATION (188 bytes security) (deflated 74%)
  adding: data/ (256 bytes security) (stored 0%)
  adding: data/pollackCN16.rda (188 bytes security) (deflated 19%)
  adding: data/pollackGE16.rda (188 bytes security) (deflated 2%)
  adding: DESCRIPTION (188 bytes security) (deflated 39%)
  adding: doc/ (256 bytes security) (stored 0%)
  adding: doc/index.html (188 bytes security) (deflated 56%)
  adding: doc/sigaR.pdf (188 bytes security) (deflated 13%)
  adding: doc/sigaR.R (188 bytes security) (deflated 81%)
  adding: doc/sigaR.Rnw (188 bytes security) (deflated 67%)
  adding: help/ (256 bytes security) (stored 0%)
  adding: help/aliases.rds (188 bytes security) (stored 0%)
  adding: help/AnIndex (188 bytes security) (deflated 71%)
  adding: help/paths.rds (188 bytes security) (stored 0%)
  adding: help/sigaR.rdb (188 bytes security) (deflated 1%)
  adding: help/sigaR.rdx (188 bytes security) (stored 0%)
  adding: html/ (256 bytes security) (stored 0%)
  adding: html/00Index.html (188 bytes security) (deflated 78%)
  adding: html/R.css (188 bytes security) (deflated 70%)
  adding: INDEX (188 bytes security) (deflated 73%)
  adding: MD5 (188 bytes security) (deflated 42%)
  adding: Meta/ (256 bytes security) (stored 0%)
  adding: Meta/data.rds (188 bytes security) (stored 0%)
  adding: Meta/hsearch.rds (188 bytes security) (stored 0%)
  adding: Meta/links.rds (188 bytes security) (stored 0%)
  adding: Meta/nsInfo.rds (188 bytes security) (stored 0%)
  adding: Meta/package.rds (188 bytes security) (stored 0%)
  adding: Meta/Rd.rds (188 bytes security) (stored 0%)
  adding: Meta/vignette.rds (188 bytes security) (stored 0%)
  adding: NAMESPACE (188 bytes security) (deflated 57%)
  adding: R/ (256 bytes security) (stored 0%)
  adding: R/sigaR (188 bytes security) (deflated 41%)
  adding: R/sigaR.rdb (188 bytes security) (deflated 11%)
  adding: R/sigaR.rdx (188 bytes security) (stored 0%)