rhdf5 2.10.0 Bernd Fischer
 | Snapshot Date: 2015-04-09 16:20:12 -0700 (Thu, 09 Apr 2015) |  | URL: https://hedgehog.fhcrc.org/bioconductor/branches/RELEASE_3_0/madman/Rpacks/rhdf5 |  | Last Changed Rev: 95439 / Revision: 102249 |  | Last Changed Date: 2014-10-13 14:38:33 -0700 (Mon, 13 Oct 2014) |  
  | zin1  | Linux (Ubuntu 12.04.4 LTS) / x86_64  |  OK  |  OK  |  OK  |  | 
| moscato1  | Windows Server 2008 R2 Enterprise SP1 (64-bit) / x64  |  OK  |  OK  |  OK  | [ OK ] | 
| perceval  | Mac OS X Snow Leopard (10.6.8) / x86_64  |  OK  |  OK  |  OK  |  OK  | 
| oaxaca  | Mac OS X Mavericks (10.9.5) / x86_64  |  OK  |  OK  |  OK  |  OK  | 
##############################################################################
##############################################################################
###
### Running command:
###
###   cd rhdf5.buildbin-libdir/rhdf5 && zip -r ../../rhdf5_2.10.0.zip . & cd ../..
###
##############################################################################
##############################################################################
  adding: demoChunkSize/ (256 bytes security) (stored 0%)
  adding: demoChunkSize/chunksize.pdf (188 bytes security) (deflated 9%)
  adding: demoChunkSize/demoChunkSize.R (188 bytes security) (deflated 65%)
  adding: DESCRIPTION (188 bytes security) (deflated 39%)
  adding: doc/ (256 bytes security) (stored 0%)
  adding: doc/index.html (188 bytes security) (deflated 56%)
  adding: doc/rhdf5.pdf (188 bytes security) (deflated 13%)
  adding: doc/rhdf5.R (188 bytes security) (deflated 81%)
  adding: doc/rhdf5.Rnw (188 bytes security) (deflated 66%)
  adding: downloadHDF5/ (256 bytes security) (stored 0%)
  adding: downloadHDF5/downloadHDF5.sh (188 bytes security) (deflated 63%)
  adding: downloadHDF5/README.txt (188 bytes security) (deflated 58%)
  adding: downloadHDF5/replacestr.R (188 bytes security) (deflated 62%)
  adding: help/ (256 bytes security) (stored 0%)
  adding: help/aliases.rds (188 bytes security) (stored 0%)
  adding: help/AnIndex (188 bytes security) (deflated 75%)
  adding: help/paths.rds (188 bytes security) (stored 0%)
  adding: help/rhdf5.rdb (188 bytes security) (deflated 1%)
  adding: help/rhdf5.rdx (188 bytes security) (stored 0%)
  adding: html/ (256 bytes security) (stored 0%)
  adding: html/00Index.html (188 bytes security) (deflated 89%)
  adding: html/R.css (188 bytes security) (deflated 70%)
  adding: INDEX (188 bytes security) (deflated 70%)
  adding: libs/ (256 bytes security) (stored 0%)
  adding: libs/i386/ (256 bytes security) (stored 0%)
  adding: libs/i386/libhdf5ForBioC-7.dll (188 bytes security) (deflated 66%)
  adding: libs/i386/libsz-2.dll (188 bytes security) (deflated 63%)
  adding: libs/i386/rhdf5.dll (188 bytes security) (deflated 62%)
  adding: libs/x64/ (256 bytes security) (stored 0%)
  adding: libs/x64/libhdf5ForBioC-7.dll (188 bytes security) (deflated 63%)
  adding: libs/x64/libsz-2.dll (188 bytes security) (deflated 63%)
  adding: libs/x64/rhdf5.dll (188 bytes security) (deflated 63%)
  adding: MD5 (188 bytes security) (deflated 44%)
  adding: Meta/ (256 bytes security) (stored 0%)
  adding: Meta/hsearch.rds (188 bytes security) (stored 0%)
  adding: Meta/links.rds (188 bytes security) (stored 0%)
  adding: Meta/nsInfo.rds (188 bytes security) (stored 0%)
  adding: Meta/package.rds (188 bytes security) (stored 0%)
  adding: Meta/Rd.rds (188 bytes security) (stored 0%)
  adding: Meta/vignette.rds (188 bytes security) (stored 0%)
  adding: NAMESPACE (188 bytes security) (deflated 79%)
  adding: NEWS.Rd (188 bytes security) (deflated 65%)
  adding: R/ (256 bytes security) (stored 0%)
  adding: R/rhdf5 (188 bytes security) (deflated 41%)
  adding: R/rhdf5.rdb (188 bytes security) (deflated 18%)
  adding: R/rhdf5.rdx (188 bytes security) (stored 0%)