rSFFreader 0.14.0 Matt Settles
Snapshot Date: 2015-04-09 16:20:12 -0700 (Thu, 09 Apr 2015) | URL: https://hedgehog.fhcrc.org/bioconductor/branches/RELEASE_3_0/madman/Rpacks/rSFFreader | Last Changed Rev: 95439 / Revision: 102249 | Last Changed Date: 2014-10-13 14:38:33 -0700 (Mon, 13 Oct 2014) |
| zin1 | Linux (Ubuntu 12.04.4 LTS) / x86_64 | OK | OK | OK | |
moscato1 | Windows Server 2008 R2 Enterprise SP1 (64-bit) / x64 | [ OK ] | ERROR | skipped | skipped |
perceval | Mac OS X Snow Leopard (10.6.8) / x86_64 | OK | OK | OK | OK |
oaxaca | Mac OS X Mavericks (10.9.5) / x86_64 | OK | OK | OK | OK |
##############################################################################
##############################################################################
###
### Running command:
###
### C:\cygwin\bin\curl.exe -O http://zin1/BBS/3.0/bioc/src/contrib/rSFFreader_0.14.0.tar.gz && D:\biocbld\bbs-3.0-bioc\R\bin\R.exe CMD INSTALL --merge-multiarch rSFFreader_0.14.0.tar.gz && rm rSFFreader_0.14.0.tar.gz
###
##############################################################################
##############################################################################
% Total % Received % Xferd Average Speed Time Time Time Current
Dload Upload Total Spent Left Speed
0 0 0 0 0 0 0 0 --:--:-- --:--:-- --:--:-- 0
100 4176k 100 4176k 0 0 53.6M 0 --:--:-- --:--:-- --:--:-- 59.9M
install for i386
* installing to library 'D:/biocbld/bbs-3.0-bioc/R/library'
* installing *source* package 'rSFFreader' ...
** libs
gcc -m32 -I"D:/biocbld/BBS-3˜1.0-B/R/include" -DNDEBUG -I"D:/biocbld/bbs-3.0-bioc/R/library/S4Vectors/include" -I"D:/biocbld/bbs-3.0-bioc/R/library/IRanges/include" -I"D:/biocbld/bbs-3.0-bioc/R/library/XVector/include" -I"D:/biocbld/bbs-3.0-bioc/R/library/Biostrings/include" -I"d:/RCompile/CRANpkg/extralibs64/local/include" -O3 -Wall -std=gnu99 -mtune=core2 -c Biostrings_stubs.c -o Biostrings_stubs.o
gcc -m32 -I"D:/biocbld/BBS-3˜1.0-B/R/include" -DNDEBUG -I"D:/biocbld/bbs-3.0-bioc/R/library/S4Vectors/include" -I"D:/biocbld/bbs-3.0-bioc/R/library/IRanges/include" -I"D:/biocbld/bbs-3.0-bioc/R/library/XVector/include" -I"D:/biocbld/bbs-3.0-bioc/R/library/Biostrings/include" -I"d:/RCompile/CRANpkg/extralibs64/local/include" -O3 -Wall -std=gnu99 -mtune=core2 -c IRanges_stubs.c -o IRanges_stubs.o
gcc -m32 -I"D:/biocbld/BBS-3˜1.0-B/R/include" -DNDEBUG -I"D:/biocbld/bbs-3.0-bioc/R/library/S4Vectors/include" -I"D:/biocbld/bbs-3.0-bioc/R/library/IRanges/include" -I"D:/biocbld/bbs-3.0-bioc/R/library/XVector/include" -I"D:/biocbld/bbs-3.0-bioc/R/library/Biostrings/include" -I"d:/RCompile/CRANpkg/extralibs64/local/include" -O3 -Wall -std=gnu99 -mtune=core2 -c R_init_rSFFreader.c -o R_init_rSFFreader.o
gcc -m32 -I"D:/biocbld/BBS-3˜1.0-B/R/include" -DNDEBUG -I"D:/biocbld/bbs-3.0-bioc/R/library/S4Vectors/include" -I"D:/biocbld/bbs-3.0-bioc/R/library/IRanges/include" -I"D:/biocbld/bbs-3.0-bioc/R/library/XVector/include" -I"D:/biocbld/bbs-3.0-bioc/R/library/Biostrings/include" -I"d:/RCompile/CRANpkg/extralibs64/local/include" -O3 -Wall -std=gnu99 -mtune=core2 -c S4Vectors_stubs.c -o S4Vectors_stubs.o
gcc -m32 -I"D:/biocbld/BBS-3˜1.0-B/R/include" -DNDEBUG -I"D:/biocbld/bbs-3.0-bioc/R/library/S4Vectors/include" -I"D:/biocbld/bbs-3.0-bioc/R/library/IRanges/include" -I"D:/biocbld/bbs-3.0-bioc/R/library/XVector/include" -I"D:/biocbld/bbs-3.0-bioc/R/library/Biostrings/include" -I"d:/RCompile/CRANpkg/extralibs64/local/include" -O3 -Wall -std=gnu99 -mtune=core2 -c SFF-io.c -o SFF-io.o
SFF-io.c: In function 'readCommonHeader':
SFF-io.c:253:12: warning: variable 'fres' set but not used [-Wunused-but-set-variable]
SFF-io.c: In function 'readSFF':
SFF-io.c:607:26: warning: variable 'fres' set but not used [-Wunused-but-set-variable]
SFF-io.c: In function 'sff_geometry':
SFF-io.c:746:53: warning: variable 'fres' set but not used [-Wunused-but-set-variable]
gcc -m32 -I"D:/biocbld/BBS-3˜1.0-B/R/include" -DNDEBUG -I"D:/biocbld/bbs-3.0-bioc/R/library/S4Vectors/include" -I"D:/biocbld/bbs-3.0-bioc/R/library/IRanges/include" -I"D:/biocbld/bbs-3.0-bioc/R/library/XVector/include" -I"D:/biocbld/bbs-3.0-bioc/R/library/Biostrings/include" -I"d:/RCompile/CRANpkg/extralibs64/local/include" -O3 -Wall -std=gnu99 -mtune=core2 -c XVector_stubs.c -o XVector_stubs.o
gcc -m32 -shared -s -static-libgcc -o rSFFreader.dll tmp.def Biostrings_stubs.o IRanges_stubs.o R_init_rSFFreader.o S4Vectors_stubs.o SFF-io.o XVector_stubs.o -lws2_32 -Ld:/RCompile/CRANpkg/extralibs64/local/lib/i386 -Ld:/RCompile/CRANpkg/extralibs64/local/lib -LD:/biocbld/BBS-3˜1.0-B/R/bin/i386 -lR
installing to D:/biocbld/bbs-3.0-bioc/R/library/rSFFreader/libs/i386
** R
** inst
** preparing package for lazy loading
** help
*** installing help indices
** building package indices
** installing vignettes
** testing if installed package can be loaded
install for x64
* installing to library 'D:/biocbld/bbs-3.0-bioc/R/library'
* installing *source* package 'rSFFreader' ...
** libs
gcc -m64 -I"D:/biocbld/BBS-3˜1.0-B/R/include" -DNDEBUG -I"D:/biocbld/bbs-3.0-bioc/R/library/S4Vectors/include" -I"D:/biocbld/bbs-3.0-bioc/R/library/IRanges/include" -I"D:/biocbld/bbs-3.0-bioc/R/library/XVector/include" -I"D:/biocbld/bbs-3.0-bioc/R/library/Biostrings/include" -I"d:/RCompile/CRANpkg/extralibs64/local/include" -O2 -Wall -std=gnu99 -mtune=core2 -c Biostrings_stubs.c -o Biostrings_stubs.o
gcc -m64 -I"D:/biocbld/BBS-3˜1.0-B/R/include" -DNDEBUG -I"D:/biocbld/bbs-3.0-bioc/R/library/S4Vectors/include" -I"D:/biocbld/bbs-3.0-bioc/R/library/IRanges/include" -I"D:/biocbld/bbs-3.0-bioc/R/library/XVector/include" -I"D:/biocbld/bbs-3.0-bioc/R/library/Biostrings/include" -I"d:/RCompile/CRANpkg/extralibs64/local/include" -O2 -Wall -std=gnu99 -mtune=core2 -c IRanges_stubs.c -o IRanges_stubs.o
gcc -m64 -I"D:/biocbld/BBS-3˜1.0-B/R/include" -DNDEBUG -I"D:/biocbld/bbs-3.0-bioc/R/library/S4Vectors/include" -I"D:/biocbld/bbs-3.0-bioc/R/library/IRanges/include" -I"D:/biocbld/bbs-3.0-bioc/R/library/XVector/include" -I"D:/biocbld/bbs-3.0-bioc/R/library/Biostrings/include" -I"d:/RCompile/CRANpkg/extralibs64/local/include" -O2 -Wall -std=gnu99 -mtune=core2 -c R_init_rSFFreader.c -o R_init_rSFFreader.o
gcc -m64 -I"D:/biocbld/BBS-3˜1.0-B/R/include" -DNDEBUG -I"D:/biocbld/bbs-3.0-bioc/R/library/S4Vectors/include" -I"D:/biocbld/bbs-3.0-bioc/R/library/IRanges/include" -I"D:/biocbld/bbs-3.0-bioc/R/library/XVector/include" -I"D:/biocbld/bbs-3.0-bioc/R/library/Biostrings/include" -I"d:/RCompile/CRANpkg/extralibs64/local/include" -O2 -Wall -std=gnu99 -mtune=core2 -c S4Vectors_stubs.c -o S4Vectors_stubs.o
gcc -m64 -I"D:/biocbld/BBS-3˜1.0-B/R/include" -DNDEBUG -I"D:/biocbld/bbs-3.0-bioc/R/library/S4Vectors/include" -I"D:/biocbld/bbs-3.0-bioc/R/library/IRanges/include" -I"D:/biocbld/bbs-3.0-bioc/R/library/XVector/include" -I"D:/biocbld/bbs-3.0-bioc/R/library/Biostrings/include" -I"d:/RCompile/CRANpkg/extralibs64/local/include" -O2 -Wall -std=gnu99 -mtune=core2 -c SFF-io.c -o SFF-io.o
SFF-io.c: In function 'readCommonHeader':
SFF-io.c:253:12: warning: variable 'fres' set but not used [-Wunused-but-set-variable]
SFF-io.c: In function 'readSFF':
SFF-io.c:607:26: warning: variable 'fres' set but not used [-Wunused-but-set-variable]
SFF-io.c: In function 'sff_geometry':
SFF-io.c:746:53: warning: variable 'fres' set but not used [-Wunused-but-set-variable]
gcc -m64 -I"D:/biocbld/BBS-3˜1.0-B/R/include" -DNDEBUG -I"D:/biocbld/bbs-3.0-bioc/R/library/S4Vectors/include" -I"D:/biocbld/bbs-3.0-bioc/R/library/IRanges/include" -I"D:/biocbld/bbs-3.0-bioc/R/library/XVector/include" -I"D:/biocbld/bbs-3.0-bioc/R/library/Biostrings/include" -I"d:/RCompile/CRANpkg/extralibs64/local/include" -O2 -Wall -std=gnu99 -mtune=core2 -c XVector_stubs.c -o XVector_stubs.o
gcc -m64 -shared -s -static-libgcc -o rSFFreader.dll tmp.def Biostrings_stubs.o IRanges_stubs.o R_init_rSFFreader.o S4Vectors_stubs.o SFF-io.o XVector_stubs.o -lws2_32 -Ld:/RCompile/CRANpkg/extralibs64/local/lib/x64 -Ld:/RCompile/CRANpkg/extralibs64/local/lib -LD:/biocbld/BBS-3˜1.0-B/R/bin/x64 -lR
installing to D:/biocbld/bbs-3.0-bioc/R/library/rSFFreader/libs/x64
** testing if installed package can be loaded
* DONE (rSFFreader)