| rGADEM 2.14.0 Arnaud Droit
 
 | Snapshot Date: 2015-04-09 16:20:12 -0700 (Thu, 09 Apr 2015) |  | URL: https://hedgehog.fhcrc.org/bioconductor/branches/RELEASE_3_0/madman/Rpacks/rGADEM |  | Last Changed Rev: 95439 / Revision: 102249 |  | Last Changed Date: 2014-10-13 14:38:33 -0700 (Mon, 13 Oct 2014) | 
 | zin1 | Linux (Ubuntu 12.04.4 LTS) / x86_64 | OK | OK | OK |  | 
| moscato1 | Windows Server 2008 R2 Enterprise SP1 (64-bit) / x64 | OK | OK | OK | [ OK ] | 
| perceval | Mac OS X Snow Leopard (10.6.8) / x86_64 | OK | OK | OK | OK | 
| oaxaca | Mac OS X Mavericks (10.9.5) / x86_64 | OK | OK | OK | OK | 
##############################################################################
##############################################################################
###
### Running command:
###
###   cd rGADEM.buildbin-libdir/rGADEM && zip -r ../../rGADEM_2.14.0.zip . & cd ../..
###
##############################################################################
##############################################################################
  adding: DESCRIPTION (188 bytes security) (deflated 39%)
  adding: doc/ (256 bytes security) (stored 0%)
  adding: doc/index.html (188 bytes security) (deflated 56%)
  adding: doc/rGADEM.pdf (188 bytes security) (deflated 10%)
  adding: doc/rGADEM.R (188 bytes security) (deflated 81%)
  adding: doc/rGADEM.Rnw (188 bytes security) (deflated 60%)
  adding: extdata/ (256 bytes security) (stored 0%)
  adding: extdata/jaspar2009.txt (188 bytes security) (deflated 64%)
  adding: extdata/Test_100.bed (188 bytes security) (deflated 61%)
  adding: extdata/Test_100.fasta (188 bytes security) (deflated 69%)
  adding: help/ (256 bytes security) (stored 0%)
  adding: help/aliases.rds (188 bytes security) (stored 0%)
  adding: help/AnIndex (188 bytes security) (deflated 77%)
  adding: help/paths.rds (188 bytes security) (stored 0%)
  adding: help/rGADEM.rdb (188 bytes security) (deflated 0%)
  adding: help/rGADEM.rdx (188 bytes security) (stored 0%)
  adding: html/ (256 bytes security) (stored 0%)
  adding: html/00Index.html (188 bytes security) (deflated 80%)
  adding: html/R.css (188 bytes security) (deflated 70%)
  adding: INDEX (188 bytes security) (deflated 51%)
  adding: libs/ (256 bytes security) (stored 0%)
  adding: libs/i386/ (256 bytes security) (stored 0%)
  adding: libs/i386/rGADEM.dll (188 bytes security) (deflated 52%)
  adding: libs/x64/ (256 bytes security) (stored 0%)
  adding: libs/x64/rGADEM.dll (188 bytes security) (deflated 52%)
  adding: MD5 (188 bytes security) (deflated 42%)
  adding: Meta/ (256 bytes security) (stored 0%)
  adding: Meta/hsearch.rds (188 bytes security) (stored 0%)
  adding: Meta/links.rds (188 bytes security) (stored 0%)
  adding: Meta/nsInfo.rds (188 bytes security) (stored 0%)
  adding: Meta/package.rds (188 bytes security) (stored 0%)
  adding: Meta/Rd.rds (188 bytes security) (stored 0%)
  adding: Meta/vignette.rds (188 bytes security) (stored 0%)
  adding: NAMESPACE (188 bytes security) (deflated 41%)
  adding: R/ (256 bytes security) (stored 0%)
  adding: R/rGADEM (188 bytes security) (deflated 41%)
  adding: R/rGADEM.rdb (188 bytes security) (deflated 30%)
  adding: R/rGADEM.rdx (188 bytes security) (stored 0%)