| methylPipe 1.0.5 Kamal Kishore
 
 | Snapshot Date: 2015-04-09 16:20:12 -0700 (Thu, 09 Apr 2015) |  | URL: https://hedgehog.fhcrc.org/bioconductor/branches/RELEASE_3_0/madman/Rpacks/methylPipe |  | Last Changed Rev: 101584 / Revision: 102249 |  | Last Changed Date: 2015-03-30 02:37:38 -0700 (Mon, 30 Mar 2015) | 
 | zin1 | Linux (Ubuntu 12.04.4 LTS) / x86_64 | OK | OK | OK |  | 
| moscato1 | Windows Server 2008 R2 Enterprise SP1 (64-bit) / x64 | OK | OK | OK | [ OK ] | 
| perceval | Mac OS X Snow Leopard (10.6.8) / x86_64 | OK | OK | OK | OK | 
| oaxaca | Mac OS X Mavericks (10.9.5) / x86_64 | OK | OK | OK | OK | 
##############################################################################
##############################################################################
###
### Running command:
###
###   cd methylPipe.buildbin-libdir/methylPipe && zip -r ../../methylPipe_1.0.5.zip . & cd ../..
###
##############################################################################
##############################################################################
  adding: DESCRIPTION (188 bytes security) (deflated 42%)
  adding: doc/ (256 bytes security) (stored 0%)
  adding: doc/index.html (188 bytes security) (deflated 58%)
  adding: doc/methylPipe.pdf (188 bytes security) (deflated 7%)
  adding: doc/methylPipe.R (188 bytes security) (deflated 67%)
  adding: doc/methylPipe.rnw (188 bytes security) (deflated 65%)
  adding: exec/ (256 bytes security) (stored 0%)
  adding: exec/methinfo.pl (188 bytes security) (deflated 68%)
  adding: extdata/ (256 bytes security) (stored 0%)
  adding: extdata/DMRs.Rdata (188 bytes security) (stored 0%)
  adding: extdata/gec.H1.Rdata (188 bytes security) (stored 0%)
  adding: extdata/gec.IMR90.Rdata (188 bytes security) (stored 0%)
  adding: extdata/GR_chr20.Rdata (188 bytes security) (stored 0%)
  adding: extdata/H1_chr20_CG_10k.txt (188 bytes security) (deflated 79%)
  adding: extdata/H1_chr20_CG_10k_tabix_out.txt.gz (188 bytes security) (deflated 0%)
  adding: extdata/H1_chr20_CG_10k_tabix_out.txt.gz.tbi (188 bytes security) (deflated 0%)
  adding: extdata/IMR90_chr20_CG_10k_tabix_out.txt.gz (188 bytes security) (deflated 0%)
  adding: extdata/IMR90_chr20_CG_10k_tabix_out.txt.gz.tbi (188 bytes security) (deflated 0%)
  adding: extdata/test_methcall/ (256 bytes security) (stored 0%)
  adding: extdata/test_methcall/methylPipe_ex.sam (188 bytes security) (deflated 88%)
  adding: extdata/uncov_GR.Rdata (188 bytes security) (stored 0%)
  adding: help/ (256 bytes security) (stored 0%)
  adding: help/aliases.rds (188 bytes security) (stored 0%)
  adding: help/AnIndex (188 bytes security) (deflated 81%)
  adding: help/methylPipe.rdb (188 bytes security) (deflated 1%)
  adding: help/methylPipe.rdx (188 bytes security) (stored 0%)
  adding: help/paths.rds (188 bytes security) (stored 0%)
  adding: html/ (256 bytes security) (stored 0%)
  adding: html/00Index.html (188 bytes security) (deflated 84%)
  adding: html/R.css (188 bytes security) (deflated 70%)
  adding: INDEX (188 bytes security) (deflated 64%)
  adding: libs/ (256 bytes security) (stored 0%)
  adding: libs/i386/ (256 bytes security) (stored 0%)
  adding: libs/i386/methylPipe.dll (188 bytes security) (deflated 56%)
  adding: libs/x64/ (256 bytes security) (stored 0%)
  adding: libs/x64/methylPipe.dll (188 bytes security) (deflated 58%)
  adding: MD5 (188 bytes security) (deflated 47%)
  adding: Meta/ (256 bytes security) (stored 0%)
  adding: Meta/hsearch.rds (188 bytes security) (stored 0%)
  adding: Meta/links.rds (188 bytes security) (stored 0%)
  adding: Meta/nsInfo.rds (188 bytes security) (stored 0%)
  adding: Meta/package.rds (188 bytes security) (stored 0%)
  adding: Meta/Rd.rds (188 bytes security) (stored 0%)
  adding: Meta/vignette.rds (188 bytes security) (stored 0%)
  adding: NAMESPACE (188 bytes security) (deflated 51%)
  adding: NEWS (188 bytes security) (deflated 62%)
  adding: R/ (256 bytes security) (stored 0%)
  adding: R/methylPipe (188 bytes security) (deflated 41%)
  adding: R/methylPipe.rdb (188 bytes security) (deflated 35%)
  adding: R/methylPipe.rdx (188 bytes security) (stored 0%)