| hyperdraw 1.18.0 Paul Murrell
 
 | Snapshot Date: 2015-04-09 16:20:12 -0700 (Thu, 09 Apr 2015) |  | URL: https://hedgehog.fhcrc.org/bioconductor/branches/RELEASE_3_0/madman/Rpacks/hyperdraw |  | Last Changed Rev: 95439 / Revision: 102249 |  | Last Changed Date: 2014-10-13 14:38:33 -0700 (Mon, 13 Oct 2014) | 
 | zin1 | Linux (Ubuntu 12.04.4 LTS) / x86_64 | OK | OK | OK |  | 
| moscato1 | Windows Server 2008 R2 Enterprise SP1 (64-bit) / x64 | OK | OK | OK | OK | 
| perceval | Mac OS X Snow Leopard (10.6.8) / x86_64 | OK | OK | OK | OK | 
| oaxaca | Mac OS X Mavericks (10.9.5) / x86_64 | [ OK ] | OK | OK | OK | 
##############################################################################
##############################################################################
###
### Running command:
###
###   /Library/Frameworks/R.framework/Versions/Current/Resources/bin/R CMD INSTALL hyperdraw
###
##############################################################################
##############################################################################
* installing to library ‘/Library/Frameworks/R.framework/Versions/3.1/Resources/library’
* installing *source* package ‘hyperdraw’ ...
** R
** inst
** preparing package for lazy loading
Creating a new generic function for ‘graphLayout’ in package ‘hyperdraw’
** help
*** installing help indices
** building package indices
** installing vignettes
** testing if installed package can be loaded
* DONE (hyperdraw)