crlmm 1.24.0 Benilton S Carvalho , Robert Scharpf , Matt Ritchie
 | Snapshot Date: 2015-04-09 16:20:12 -0700 (Thu, 09 Apr 2015) |  | URL: https://hedgehog.fhcrc.org/bioconductor/branches/RELEASE_3_0/madman/Rpacks/crlmm |  | Last Changed Rev: 95439 / Revision: 102249 |  | Last Changed Date: 2014-10-13 14:38:33 -0700 (Mon, 13 Oct 2014) |  
  | zin1  | Linux (Ubuntu 12.04.4 LTS) / x86_64  | [ OK ] |  OK  |  OK  |  | 
| moscato1  | Windows Server 2008 R2 Enterprise SP1 (64-bit) / x64  |  OK  |  OK  |  OK  |  OK  | 
| perceval  | Mac OS X Snow Leopard (10.6.8) / x86_64  |  OK  |  OK  |  OK  |  OK  | 
| oaxaca  | Mac OS X Mavericks (10.9.5) / x86_64  |  OK  |  OK  |  OK  |  OK  | 
##############################################################################
##############################################################################
###
### Running command:
###
###   /home/biocbuild/bbs-3.0-bioc/R/bin/R CMD INSTALL crlmm
###
##############################################################################
##############################################################################
* installing to library ‘/home/biocbuild/bbs-3.0-bioc/R/library’
* installing *source* package ‘crlmm’ ...
** libs
gcc -std=gnu99 -I/home/biocbuild/bbs-3.0-bioc/R/include -DNDEBUG  -I/usr/local/include -I"/home/biocbuild/bbs-3.0-bioc/R/library/preprocessCore/include"   -fpic  -g -O2  -Wall -c gtypeCaller.c -o gtypeCaller.o
gcc -std=gnu99 -I/home/biocbuild/bbs-3.0-bioc/R/include -DNDEBUG  -I/usr/local/include -I"/home/biocbuild/bbs-3.0-bioc/R/library/preprocessCore/include"   -fpic  -g -O2  -Wall -c init.c -o init.o
gcc -std=gnu99 -I/home/biocbuild/bbs-3.0-bioc/R/include -DNDEBUG  -I/usr/local/include -I"/home/biocbuild/bbs-3.0-bioc/R/library/preprocessCore/include"   -fpic  -g -O2  -Wall -c trimmed.c -o trimmed.o
gcc -std=gnu99 -I/home/biocbuild/bbs-3.0-bioc/R/include -DNDEBUG  -I/usr/local/include -I"/home/biocbuild/bbs-3.0-bioc/R/library/preprocessCore/include"   -fpic  -g -O2  -Wall -c utils.c -o utils.o
gcc -std=gnu99 -shared -L/home/biocbuild/bbs-3.0-bioc/R/lib -L/usr/local/lib -o crlmm.so gtypeCaller.o init.o trimmed.o utils.o -L/home/biocbuild/bbs-3.0-bioc/R/lib -lR
installing to /home/biocbuild/bbs-3.0-bioc/R/library/crlmm/libs
** R
** data
** inst
** preparing package for lazy loading
** help
*** installing help indices
** building package indices
** installing vignettes
   ‘AffyGW.Rnw’ 
   ‘CopyNumberOverview.Rnw’ 
   ‘IlluminaPreprocessCN.Rnw’ 
   ‘Infrastructure.Rnw’ 
   ‘genotyping.Rnw’ 
   ‘gtypeDownstream.Rnw’ 
** testing if installed package can be loaded
* DONE (crlmm)